BEGIN:VCALENDAR
VERSION:2.0
PRODID:-//Municipalité de Compton - ECPv6.15.14//NONSGML v1.0//EN
CALSCALE:GREGORIAN
METHOD:PUBLISH
X-WR-CALNAME:Municipalité de Compton
X-ORIGINAL-URL:https://www.compton.ca
X-WR-CALDESC:évènements pour Municipalité de Compton
REFRESH-INTERVAL;VALUE=DURATION:PT1H
X-Robots-Tag:noindex
X-PUBLISHED-TTL:PT1H
BEGIN:VTIMEZONE
TZID:America/Toronto
BEGIN:DAYLIGHT
TZOFFSETFROM:-0500
TZOFFSETTO:-0400
TZNAME:EDT
DTSTART:20250309T070000
END:DAYLIGHT
BEGIN:STANDARD
TZOFFSETFROM:-0400
TZOFFSETTO:-0500
TZNAME:EST
DTSTART:20251102T060000
END:STANDARD
BEGIN:DAYLIGHT
TZOFFSETFROM:-0500
TZOFFSETTO:-0400
TZNAME:EDT
DTSTART:20260308T070000
END:DAYLIGHT
BEGIN:STANDARD
TZOFFSETFROM:-0400
TZOFFSETTO:-0500
TZNAME:EST
DTSTART:20261101T060000
END:STANDARD
BEGIN:DAYLIGHT
TZOFFSETFROM:-0500
TZOFFSETTO:-0400
TZNAME:EDT
DTSTART:20270314T070000
END:DAYLIGHT
BEGIN:STANDARD
TZOFFSETFROM:-0400
TZOFFSETTO:-0500
TZNAME:EST
DTSTART:20271107T060000
END:STANDARD
END:VTIMEZONE
BEGIN:VEVENT
DTSTART;TZID=America/Toronto:20260421T133000
DTEND;TZID=America/Toronto:20260421T150000
DTSTAMP:20260419T104740
CREATED:20250212T181256Z
LAST-MODIFIED:20260311T182359Z
UID:13623-1776778200-1776783600@www.compton.ca
SUMMARY:Rencontre du Club de lecture (animaux)
DESCRIPTION:
URL:https://www.compton.ca/evenement/rencontre-du-club-de-lecture-2/
LOCATION:Bibliothèque Estelle-Bureau\, 29 chemin de Hatley\, Compton\, Québec\, J0B 1L0\, Canada
CATEGORIES:Culturel
END:VEVENT
BEGIN:VEVENT
DTSTART;TZID=America/Toronto:20260422T090000
DTEND;TZID=America/Toronto:20260422T103000
DTSTAMP:20260419T104740
CREATED:20260109T131555Z
LAST-MODIFIED:20260414T174603Z
UID:15921-1776848400-1776853800@www.compton.ca
SUMMARY:Club de marche - Départ du Récré-O-Parc
DESCRIPTION:
URL:https://www.compton.ca/evenement/club-de-marche-2/
LOCATION:Récré-O-Parc\, 40 rue du Parc\, Compton\, Québec\, J0B 1L0
CATEGORIES:Activités sportives
END:VEVENT
BEGIN:VEVENT
DTSTART;TZID=America/Toronto:20260423T163000
DTEND;TZID=America/Toronto:20260423T190000
DTSTAMP:20260419T104740
CREATED:20260303T135515Z
LAST-MODIFIED:20260303T191156Z
UID:16231-1776961800-1776970800@www.compton.ca
SUMMARY:Marché public des sucres
DESCRIPTION:
URL:https://www.compton.ca/evenement/marche-public-des-sucres/
LOCATION:Parc des Lions\, Compton\, QC\, J0B 1L0\, Canada
CATEGORIES:Communautaire
END:VEVENT
BEGIN:VEVENT
DTSTART;TZID=America/Toronto:20260425T103000
DTEND;TZID=America/Toronto:20260425T113000
DTSTAMP:20260419T104740
CREATED:20260303T134357Z
LAST-MODIFIED:20260311T181551Z
UID:16219-1777113000-1777116600@www.compton.ca
SUMMARY:Heure du conte printemps
DESCRIPTION:
URL:https://www.compton.ca/evenement/heure-du-conte-printemps/
LOCATION:Bibliothèque Estelle-Bureau\, 29 chemin de Hatley\, Compton\, Québec\, J0B 1L0\, Canada
CATEGORIES:Familles
END:VEVENT
BEGIN:VEVENT
DTSTART;TZID=America/Toronto:20260427T183000
DTEND;TZID=America/Toronto:20260427T203000
DTSTAMP:20260419T104740
CREATED:20260318T143630Z
LAST-MODIFIED:20260318T143630Z
UID:16362-1777314600-1777321800@www.compton.ca
SUMMARY:Assemblée générale annuelle des Comptonales
DESCRIPTION:Les Comptonales invitent la population à leur assemblée générale annuelle\, qui se tiendra le lundi 27 avril prochain en soirée. Ce sera l’occasion de découvrir les réalisations de la dernière année\, d’en apprendre davantage sur les projets à venir et d’échanger avec l’équipe et les membres du conseil d’administration dans une ambiance conviviale. Un moment de rencontre est prévu dès 18h30 avec bouchées et rafraîchissements\, suivi de l’assemblée à 19h00. \n  \nToute personne intéressée par l’organisation\, ses activités ou souhaitant s’impliquer est la bienvenue.\nL’ordre du jour suivra en avril.\nMerci de confirmer votre présence afin de nous aider à prévoir les quantités. \n  \nLundi 27 avril 2026\, dès 18h30 \nDébut de l’AGA à 19h \nÀ l’Érablière du village de Compton \n  \n  \nEt voici le lien du formulaire pour RSVP : https://forms.gle/ZTDb5AHzTSp4TZzM7
URL:https://www.compton.ca/evenement/assemblee-generale-annuelle-des-comptonales/
LOCATION:Estrie
CATEGORIES:Communautaire,Touristique
END:VEVENT
BEGIN:VEVENT
DTSTART;TZID=America/Toronto:20260428T130000
DTEND;TZID=America/Toronto:20260428T150000
DTSTAMP:20260419T104740
CREATED:20260303T134643Z
LAST-MODIFIED:20260303T134643Z
UID:16223-1777381200-1777388400@www.compton.ca
SUMMARY:Atelier d'identification de photos anciennes
DESCRIPTION:
URL:https://www.compton.ca/evenement/atelier-didentification-de-photos-anciennes-3/
LOCATION:Bibliothèque Estelle-Bureau\, 29 chemin de Hatley\, Compton\, Québec\, J0B 1L0\, Canada
CATEGORIES:Communautaire
END:VEVENT
BEGIN:VEVENT
DTSTART;TZID=America/Toronto:20260428T180000
DTEND;TZID=America/Toronto:20260428T200000
DTSTAMP:20260419T104740
CREATED:20260325T200347Z
LAST-MODIFIED:20260325T200347Z
UID:16425-1777399200-1777406400@www.compton.ca
SUMMARY:Assemblée générale annuelle de L'écho de Compton
DESCRIPTION:
URL:https://www.compton.ca/evenement/assemblee-generale-annuelle-de-lecho-de-compton/
LOCATION:Estrie
CATEGORIES:Communautaire
END:VEVENT
BEGIN:VEVENT
DTSTART;TZID=America/Toronto:20260430T070000
DTEND;TZID=America/Toronto:20260430T110000
DTSTAMP:20260419T104740
CREATED:20260325T194617Z
LAST-MODIFIED:20260325T194617Z
UID:16422-1777532400-1777546800@www.compton.ca
SUMMARY:Déjeuner des policiers de la MRC de Coaticook au Wood.
DESCRIPTION:
URL:https://www.compton.ca/evenement/dejeuner-des-policiers-de-la-mrc-de-coaticook-au-wood/
LOCATION:Estrie
CATEGORIES:Communautaire
END:VEVENT
BEGIN:VEVENT
DTSTART;TZID=America/Toronto:20260430T190000
DTEND;TZID=America/Toronto:20260430T210000
DTSTAMP:20260419T104740
CREATED:20260311T143605Z
LAST-MODIFIED:20260311T143605Z
UID:16329-1777575600-1777582800@www.compton.ca
SUMMARY:Conférence de la Société d'histoire : Le patrimoine agricole de Compton
DESCRIPTION:
URL:https://www.compton.ca/evenement/conference-de-la-societe-dhistoire-le-patrimoine-agricole-de-compton/
LOCATION:Hôtel de ville\, 3 chemin de Hatley\, Compton\, Estrie\, J0B 1L0\, Canada
CATEGORIES:Communautaire
END:VEVENT
END:VCALENDAR