BEGIN:VCALENDAR
VERSION:2.0
PRODID:-//Municipalité de Compton - ECPv6.15.14//NONSGML v1.0//EN
CALSCALE:GREGORIAN
METHOD:PUBLISH
X-ORIGINAL-URL:https://www.compton.ca
X-WR-CALDESC:évènements pour Municipalité de Compton
REFRESH-INTERVAL;VALUE=DURATION:PT1H
X-Robots-Tag:noindex
X-PUBLISHED-TTL:PT1H
BEGIN:VTIMEZONE
TZID:America/Toronto
BEGIN:DAYLIGHT
TZOFFSETFROM:-0500
TZOFFSETTO:-0400
TZNAME:EDT
DTSTART:20250309T070000
END:DAYLIGHT
BEGIN:STANDARD
TZOFFSETFROM:-0400
TZOFFSETTO:-0500
TZNAME:EST
DTSTART:20251102T060000
END:STANDARD
BEGIN:DAYLIGHT
TZOFFSETFROM:-0500
TZOFFSETTO:-0400
TZNAME:EDT
DTSTART:20260308T070000
END:DAYLIGHT
BEGIN:STANDARD
TZOFFSETFROM:-0400
TZOFFSETTO:-0500
TZNAME:EST
DTSTART:20261101T060000
END:STANDARD
BEGIN:DAYLIGHT
TZOFFSETFROM:-0500
TZOFFSETTO:-0400
TZNAME:EDT
DTSTART:20270314T070000
END:DAYLIGHT
BEGIN:STANDARD
TZOFFSETFROM:-0400
TZOFFSETTO:-0500
TZNAME:EST
DTSTART:20271107T060000
END:STANDARD
END:VTIMEZONE
BEGIN:VEVENT
DTSTART;TZID=America/Toronto:20260506T130000
DTEND;TZID=America/Toronto:20260506T190000
DTSTAMP:20260419T122134
CREATED:20260320T143517Z
LAST-MODIFIED:20260320T143517Z
UID:16388-1778072400-1778094000@www.compton.ca
SUMMARY:L'Estrie met ses culottes - Collecte de vêtements
DESCRIPTION:À l’occasion de sa 30e édition\, la grande collecte de vêtements L’Estrie met ses culottes est de retour ! \nProfitez du ménage de printemps pour faire le tri dans vos garde-robes et donner une seconde vie à vos vêtements\, accessoires et petits articles de sport encore en bon état. Les dons seront recueillis au Comptoir Familial de Compton les 6 et 7 mai prochains durant les heures d’ouverture. \nPortée par Récupex\, cette initiative a permis d’amasser plus d’un million de livres de vêtements en Estrie au cours des 30 dernières années\, grâce à la générosité de plus de 50 000 citoyens. \nCette année\, en plus de donner\, la population est invitée à découvrir les organismes participants et à encourager leurs friperies locales. \nPlus que jamais\, pour soutenir la communauté\, préserver l’environnement et contribuer à la mission des organismes d’ici\, chaque geste compte. Mobilisons-nous et participons ensemble à cette action collective aux retombées significatives ! \nPour connaître tous les détails de la campagne et découvrir les autres points de collecte en Estrie\, visitez le recupex.ca.
URL:https://www.compton.ca/evenement/lestrie-met-ses-culottes-collecte-de-vetements/
LOCATION:Estrie
CATEGORIES:Communautaire
END:VEVENT
BEGIN:VEVENT
DTSTART;TZID=America/Toronto:20260507T130000
DTEND;TZID=America/Toronto:20260507T190000
DTSTAMP:20260419T122134
CREATED:20260320T143558Z
LAST-MODIFIED:20260320T143558Z
UID:16390-1778158800-1778180400@www.compton.ca
SUMMARY:L'Estrie met ses culottes - Collecte de vêtements
DESCRIPTION:À l’occasion de sa 30e édition\, la grande collecte de vêtements L’Estrie met ses culottes est de retour ! \nProfitez du ménage de printemps pour faire le tri dans vos garde-robes et donner une seconde vie à vos vêtements\, accessoires et petits articles de sport encore en bon état. Les dons seront recueillis au Comptoir Familial de Compton les 6 et 7 mai prochains durant les heures d’ouverture. \nPortée par Récupex\, cette initiative a permis d’amasser plus d’un million de livres de vêtements en Estrie au cours des 30 dernières années\, grâce à la générosité de plus de 50 000 citoyens. \nCette année\, en plus de donner\, la population est invitée à découvrir les organismes participants et à encourager leurs friperies locales. \nPlus que jamais\, pour soutenir la communauté\, préserver l’environnement et contribuer à la mission des organismes d’ici\, chaque geste compte. Mobilisons-nous et participons ensemble à cette action collective aux retombées significatives ! \nPour connaître tous les détails de la campagne et découvrir les autres points de collecte en Estrie\, visitez le recupex.ca.
URL:https://www.compton.ca/evenement/lestrie-met-ses-culottes-collecte-de-vetements-2/
LOCATION:Estrie
CATEGORIES:Communautaire
END:VEVENT
BEGIN:VEVENT
DTSTART;TZID=America/Toronto:20260507T133000
DTEND;TZID=America/Toronto:20260507T150000
DTSTAMP:20260419T122134
CREATED:20260303T134755Z
LAST-MODIFIED:20260303T134755Z
UID:16225-1778160600-1778166000@www.compton.ca
SUMMARY:Atelier de jardinage
DESCRIPTION:
URL:https://www.compton.ca/evenement/atelier-de-jardinage/
LOCATION:Bibliothèque Estelle-Bureau\, 29 chemin de Hatley\, Compton\, Québec\, J0B 1L0\, Canada
CATEGORIES:Communautaire
END:VEVENT
BEGIN:VEVENT
DTSTART;TZID=America/Toronto:20260509T103000
DTEND;TZID=America/Toronto:20260509T120000
DTSTAMP:20260419T122134
CREATED:20260318T152752Z
LAST-MODIFIED:20260318T152752Z
UID:16364-1778322600-1778328000@www.compton.ca
SUMMARY:Atelier "Des animaux au poil!" avec l'organisme GUEPE
DESCRIPTION:
URL:https://www.compton.ca/evenement/atelier-des-animaux-au-poil-avec-lorganisme-guepe/
LOCATION:Bibliothèque Estelle-Bureau\, 29 chemin de Hatley\, Compton\, Québec\, J0B 1L0\, Canada
CATEGORIES:Communautaire
END:VEVENT
BEGIN:VEVENT
DTSTART;TZID=America/Toronto:20260512T130000
DTEND;TZID=America/Toronto:20260512T163000
DTSTAMP:20260419T122134
CREATED:20260303T144221Z
LAST-MODIFIED:20260303T144221Z
UID:16278-1778590800-1778603400@www.compton.ca
SUMMARY:Bingo de l'Âge d'or de Compton
DESCRIPTION:
URL:https://www.compton.ca/evenement/bingo-de-lage-dor-de-compton-4/
LOCATION:Sous-sol de l’église
CATEGORIES:Communautaire
END:VEVENT
BEGIN:VEVENT
DTSTART;TZID=America/Toronto:20260512T180000
DTEND;TZID=America/Toronto:20260512T193000
DTSTAMP:20260419T122134
CREATED:20260414T175922Z
LAST-MODIFIED:20260414T175922Z
UID:16560-1778608800-1778614200@www.compton.ca
SUMMARY:Séance familiale du conseil
DESCRIPTION:Le mardi 12 mai 2026 se tiendra l’annuelle séance familiale du Conseil municipal de la Municipalité de Compton. \nDès 18 h\, une visite guidée sera offerte aux familles intéressées. La séance ouvrira à 18 h 30 et sera rapidement ajournée afin de permettre aux jeunes de poser leurs questions. \nVeuillez confirmer votre présence et celle de vos enfants\, en complétant le formulaire en ligne sur compton.ca \nC’est un rendez-vous : bienvenue à tou.te.s!
URL:https://www.compton.ca/evenement/seance-familiale-du-conseil-2/
LOCATION:Hôtel de ville\, 3 chemin de Hatley\, Compton\, Estrie\, J0B 1L0\, Canada
CATEGORIES:Familles,Municipal
END:VEVENT
BEGIN:VEVENT
DTSTART;TZID=America/Toronto:20260514T180000
DTEND;TZID=America/Toronto:20260514T200000
DTSTAMP:20260419T122134
CREATED:20260318T152840Z
LAST-MODIFIED:20260318T152840Z
UID:16366-1778781600-1778788800@www.compton.ca
SUMMARY:Rencontre d'auteure avec France Lorrain
DESCRIPTION:
URL:https://www.compton.ca/evenement/rencontre-dauteure-avec-france-lorrain/
LOCATION:Bibliothèque Estelle-Bureau\, 29 chemin de Hatley\, Compton\, Québec\, J0B 1L0\, Canada
CATEGORIES:Culturel
END:VEVENT
BEGIN:VEVENT
DTSTART;TZID=America/Toronto:20260515T180000
DTEND;TZID=America/Toronto:20260515T200000
DTSTAMP:20260419T122134
CREATED:20260318T152918Z
LAST-MODIFIED:20260318T152918Z
UID:16368-1778868000-1778875200@www.compton.ca
SUMMARY:Soirée Mangas pour les ados
DESCRIPTION:
URL:https://www.compton.ca/evenement/soiree-mangas-pour-les-ados/
LOCATION:Bibliothèque Estelle-Bureau\, 29 chemin de Hatley\, Compton\, Québec\, J0B 1L0\, Canada
CATEGORIES:Communautaire
END:VEVENT
BEGIN:VEVENT
DTSTART;VALUE=DATE:20260516
DTEND;VALUE=DATE:20260518
DTSTAMP:20260419T122134
CREATED:20250428T203020Z
LAST-MODIFIED:20260106T203446Z
UID:14136-1778889600-1779062399@www.compton.ca
SUMMARY:Ventes de garage sans permis
DESCRIPTION:
URL:https://www.compton.ca/evenement/ventes-de-garage-sans-permis/
LOCATION:Estrie
CATEGORIES:Municipal
END:VEVENT
BEGIN:VEVENT
DTSTART;TZID=America/Toronto:20260516T100000
DTEND;TZID=America/Toronto:20260516T123000
DTSTAMP:20260419T122134
CREATED:20260303T135121Z
LAST-MODIFIED:20260303T135121Z
UID:16229-1778925600-1778934600@www.compton.ca
SUMMARY:Journée de l'arbre
DESCRIPTION:
URL:https://www.compton.ca/evenement/journee-de-larbre-2/
LOCATION:Estrie
CATEGORIES:Municipal
END:VEVENT
BEGIN:VEVENT
DTSTART;TZID=America/Toronto:20260521T163000
DTEND;TZID=America/Toronto:20260521T190000
DTSTAMP:20260419T122134
CREATED:20260303T135608Z
LAST-MODIFIED:20260303T191126Z
UID:16233-1779381000-1779390000@www.compton.ca
SUMMARY:Marché public du printemps
DESCRIPTION:
URL:https://www.compton.ca/evenement/marche-public-du-printemps/
LOCATION:Estrie
CATEGORIES:Communautaire
END:VEVENT
BEGIN:VEVENT
DTSTART;TZID=America/Toronto:20260526T130000
DTEND;TZID=America/Toronto:20260526T150000
DTSTAMP:20260419T122134
CREATED:20260318T153348Z
LAST-MODIFIED:20260318T153401Z
UID:16372-1779800400-1779807600@www.compton.ca
SUMMARY:Atelier d'identification de photos anciennes
DESCRIPTION:
URL:https://www.compton.ca/evenement/atelier-didentification-de-photos-anciennes-4/
LOCATION:Bibliothèque Estelle-Bureau\, 29 chemin de Hatley\, Compton\, Québec\, J0B 1L0\, Canada
CATEGORIES:Culturel
END:VEVENT
BEGIN:VEVENT
DTSTART;TZID=America/Toronto:20260530T100000
DTEND;TZID=America/Toronto:20260530T130000
DTSTAMP:20260419T122134
CREATED:20260303T135031Z
LAST-MODIFIED:20260303T135031Z
UID:16227-1780135200-1780146000@www.compton.ca
SUMMARY:Journée familles au Récré-O-Parc
DESCRIPTION:
URL:https://www.compton.ca/evenement/journee-familles-au-recre-o-parc/
LOCATION:Récré-O-Parc\, 40 rue du Parc\, Compton\, Québec\, J0B 1L0
CATEGORIES:Familles
END:VEVENT
END:VCALENDAR