BEGIN:VCALENDAR
VERSION:2.0
PRODID:-//Municipalité de Compton - ECPv6.15.14//NONSGML v1.0//EN
CALSCALE:GREGORIAN
METHOD:PUBLISH
X-WR-CALNAME:Municipalité de Compton
X-ORIGINAL-URL:https://www.compton.ca
X-WR-CALDESC:évènements pour Municipalité de Compton
REFRESH-INTERVAL;VALUE=DURATION:PT1H
X-Robots-Tag:noindex
X-PUBLISHED-TTL:PT1H
BEGIN:VTIMEZONE
TZID:America/Toronto
BEGIN:DAYLIGHT
TZOFFSETFROM:-0500
TZOFFSETTO:-0400
TZNAME:EDT
DTSTART:20250309T070000
END:DAYLIGHT
BEGIN:STANDARD
TZOFFSETFROM:-0400
TZOFFSETTO:-0500
TZNAME:EST
DTSTART:20251102T060000
END:STANDARD
BEGIN:DAYLIGHT
TZOFFSETFROM:-0500
TZOFFSETTO:-0400
TZNAME:EDT
DTSTART:20260308T070000
END:DAYLIGHT
BEGIN:STANDARD
TZOFFSETFROM:-0400
TZOFFSETTO:-0500
TZNAME:EST
DTSTART:20261101T060000
END:STANDARD
BEGIN:DAYLIGHT
TZOFFSETFROM:-0500
TZOFFSETTO:-0400
TZNAME:EDT
DTSTART:20270314T070000
END:DAYLIGHT
BEGIN:STANDARD
TZOFFSETFROM:-0400
TZOFFSETTO:-0500
TZNAME:EST
DTSTART:20271107T060000
END:STANDARD
END:VTIMEZONE
BEGIN:VEVENT
DTSTART;TZID=America/Toronto:20260108T190000
DTEND;TZID=America/Toronto:20260108T213000
DTSTAMP:20260420T192042
CREATED:20251125T165314Z
LAST-MODIFIED:20260106T195331Z
UID:15566-1767898800-1767907800@www.compton.ca
SUMMARY:Soirée pickleball au gymnase de l'école
DESCRIPTION:
URL:https://www.compton.ca/evenement/soiree-pickleball-au-gymnase-de-lecole-2/
LOCATION:Gymnase de l’école
CATEGORIES:Activités sportives
END:VEVENT
BEGIN:VEVENT
DTSTART;TZID=America/Toronto:20260113T130000
DTEND;TZID=America/Toronto:20260113T163000
DTSTAMP:20260420T192042
CREATED:20250922T180958Z
LAST-MODIFIED:20260106T195355Z
UID:15076-1768309200-1768321800@www.compton.ca
SUMMARY:Bingo de l'Âge d'or de Compton
DESCRIPTION:
URL:https://www.compton.ca/evenement/bingo-de-lage-dor-de-compton/
LOCATION:Sous-sol de l’église
CATEGORIES:Communautaire
END:VEVENT
BEGIN:VEVENT
DTSTART;TZID=America/Toronto:20260114T090000
DTEND;TZID=America/Toronto:20260114T103000
DTSTAMP:20260420T192042
CREATED:20251125T165226Z
LAST-MODIFIED:20260106T195429Z
UID:15564-1768381200-1768386600@www.compton.ca
SUMMARY:Club de marche
DESCRIPTION:
URL:https://www.compton.ca/evenement/club-de-marche/
LOCATION:Récré-O-Parc\, 40 rue du Parc\, Compton\, Québec\, J0B 1L0
CATEGORIES:Activités sportives
END:VEVENT
BEGIN:VEVENT
DTSTART;TZID=America/Toronto:20260119T060000
DTEND;TZID=America/Toronto:20260119T163000
DTSTAMP:20260420T192042
CREATED:20260105T201042Z
LAST-MODIFIED:20260105T201042Z
UID:15866-1768802400-1768840200@www.compton.ca
SUMMARY:Collecte des sapins de Noël
DESCRIPTION:
URL:https://www.compton.ca/evenement/collecte-des-sapins-de-noel-2/
LOCATION:Estrie
CATEGORIES:Municipal
END:VEVENT
BEGIN:VEVENT
DTSTART;TZID=America/Toronto:20260120T193000
DTEND;TZID=America/Toronto:20260120T210000
DTSTAMP:20260420T192042
CREATED:20251111T210033Z
LAST-MODIFIED:20260106T192410Z
UID:15485-1768937400-1768942800@www.compton.ca
SUMMARY:Séance du conseil janvier
DESCRIPTION:
URL:https://www.compton.ca/evenement/seance-du-conseil-decembre/
LOCATION:Hôtel de ville\, 3 chemin de Hatley\, Compton\, Estrie\, J0B 1L0\, Canada
CATEGORIES:Municipal
END:VEVENT
BEGIN:VEVENT
DTSTART;TZID=America/Toronto:20260124T103000
DTEND;TZID=America/Toronto:20260124T120000
DTSTAMP:20260420T192042
CREATED:20241211T204156Z
LAST-MODIFIED:20260106T203756Z
UID:13165-1769250600-1769256000@www.compton.ca
SUMMARY:Heure du conte HIVER
DESCRIPTION:
URL:https://www.compton.ca/evenement/heure-du-conte-hiver/
LOCATION:Bibliothèque Estelle-Bureau\, 29 chemin de Hatley\, Compton\, Québec\, J0B 1L0\, Canada
CATEGORIES:Culturel
END:VEVENT
BEGIN:VEVENT
DTSTART;TZID=America/Toronto:20260127T130000
DTEND;TZID=America/Toronto:20260127T150000
DTSTAMP:20260420T192042
CREATED:20250908T182134Z
LAST-MODIFIED:20260106T195256Z
UID:14986-1769518800-1769526000@www.compton.ca
SUMMARY:Atelier d'identification de photos anciennes
DESCRIPTION:
URL:https://www.compton.ca/evenement/atelier-didentification-de-photos-anciennes/
LOCATION:Bibliothèque Estelle-Bureau\, 29 chemin de Hatley\, Compton\, Québec\, J0B 1L0\, Canada
CATEGORIES:Communautaire
END:VEVENT
BEGIN:VEVENT
DTSTART;TZID=America/Toronto:20260129T133000
DTEND;TZID=America/Toronto:20260129T150000
DTSTAMP:20260420T192042
CREATED:20260105T195451Z
LAST-MODIFIED:20260105T195503Z
UID:15856-1769693400-1769698800@www.compton.ca
SUMMARY:Café-In - Animation Zoo Quatre pattes et ses amis
DESCRIPTION:Dans le cadre de La voix des aînés\, Quatre Pattes et ses amis proposent une animation\nzoo douce et chaleureuse. Une rencontre avec les animaux qui invite au sourire\, à la\ndétente et au partage\, pour un moment de bien-être et de connexion. \nDate : jeudi 29 janvier 2026\nHeure : 13h30\nLieu : Église St-Thomas d’Aquin\,\n6747\, route Louis-S.-St-Laurent\, Compton\n(au Sous-sol\, porte 4)\nCafé et biscuits offerts.\nInformations & inscriptions :\nparticipation@cabmrccoaticook.org\n819 849-7011 poste 216
URL:https://www.compton.ca/evenement/cafe-in-animation-zoo-avec-quatre-pattes-et-ses-amis/
LOCATION:Sous-sol de l’église
CATEGORIES:Communautaire
END:VEVENT
BEGIN:VEVENT
DTSTART;TZID=America/Toronto:20260129T190000
DTEND;TZID=America/Toronto:20260129T210000
DTSTAMP:20260420T192042
CREATED:20260105T195810Z
LAST-MODIFIED:20260105T195847Z
UID:15859-1769713200-1769720400@www.compton.ca
SUMMARY:Conférence - Ponts couverts et chemins anciens de la Société d'histoire de Compton
DESCRIPTION:La Société d’histoire de Compton vous invite à la conférence\nPonts couverts et chemins anciens \nLa Société d’histoire de Compton poursuit sa programmation 2025-2026 par une conférence intitulée Ponts couverts et chemins anciens. Le canton de Compton étant traversé par quatre rivières\, le développement du réseau routier n’a pu se faire sans ériger plusieurs ponts. Ces derniers\, menacés par les embâcles\, les crues printanières ou par des pluies torrentielles qui ont presque tout emporté\, ont chacun leur histoire. \nEn visionnant d’anciennes cartes du canton de Compton\, nous pourrons comprendre comment le réseau routier s’est développé. Mais que reste-t-il\, de nos jours\, de ces bouts de chemin qui ont été abandonnés? Quant aux ponts de bois\, de fer ou de béton\, couverts ou non\, l’abondante documentation photographique de Bibliothèque et Archives nationales du Québec nous permet un regard émouvant sur ces vieilles structures pour la plupart disparues. \nJ’entends donc partager avec vous les résultats des recherches sur les ponts de Compton\net quelques belles trouvailles à propos des chemins anciens. La richesse de ce patrimoine\ncomptonois ne fait pas de doute. \nVous êtes attendus à :\nla Salle du conseil de l’Hôtel de ville\n3\, chemin de Hatley à Compton\nle jeudi 29 janvier 2026 à 19 heures. \nL’admission étant gratuite pour les membres de la Société d’histoire de Compton; une contribution de 5 $ est demandée aux personnes qui n’en sont pas. Il est préférable\, pour faciliter la logistique de la conférence\, de nous signifier votre intention de vous y présenter en communiquant par courriel à : societehistoirecompton@gmail.com \nJeanmarc Lachance\, président
URL:https://www.compton.ca/evenement/conference-ponts-couverts-et-chemins-anciens-de-la-societe-dhistoire-de-compton/
LOCATION:Hôtel de ville\, 3 chemin de Hatley\, Compton\, Estrie\, J0B 1L0\, Canada
CATEGORIES:Culturel
END:VEVENT
BEGIN:VEVENT
DTSTART;TZID=America/Toronto:20260130T180000
DTEND;TZID=America/Toronto:20260130T200000
DTSTAMP:20260420T192042
CREATED:20250403T130029Z
LAST-MODIFIED:20260106T204702Z
UID:14006-1769796000-1769803200@www.compton.ca
SUMMARY:Soirée ados MAGIC THE GATHERING
DESCRIPTION:
URL:https://www.compton.ca/evenement/soiree-jeux-de-societe-magic-the-gathering/
LOCATION:Bibliothèque Estelle-Bureau\, 29 chemin de Hatley\, Compton\, Québec\, J0B 1L0\, Canada
CATEGORIES:Communautaire
END:VEVENT
END:VCALENDAR