BEGIN:VCALENDAR
VERSION:2.0
PRODID:-//Municipalité de Compton - ECPv6.15.14//NONSGML v1.0//EN
CALSCALE:GREGORIAN
METHOD:PUBLISH
X-WR-CALNAME:Municipalité de Compton
X-ORIGINAL-URL:https://www.compton.ca
X-WR-CALDESC:évènements pour Municipalité de Compton
REFRESH-INTERVAL;VALUE=DURATION:PT1H
X-Robots-Tag:noindex
X-PUBLISHED-TTL:PT1H
BEGIN:VTIMEZONE
TZID:America/Toronto
BEGIN:DAYLIGHT
TZOFFSETFROM:-0500
TZOFFSETTO:-0400
TZNAME:EDT
DTSTART:20240310T070000
END:DAYLIGHT
BEGIN:STANDARD
TZOFFSETFROM:-0400
TZOFFSETTO:-0500
TZNAME:EST
DTSTART:20241103T060000
END:STANDARD
BEGIN:DAYLIGHT
TZOFFSETFROM:-0500
TZOFFSETTO:-0400
TZNAME:EDT
DTSTART:20250309T070000
END:DAYLIGHT
BEGIN:STANDARD
TZOFFSETFROM:-0400
TZOFFSETTO:-0500
TZNAME:EST
DTSTART:20251102T060000
END:STANDARD
BEGIN:DAYLIGHT
TZOFFSETFROM:-0500
TZOFFSETTO:-0400
TZNAME:EDT
DTSTART:20260308T070000
END:DAYLIGHT
BEGIN:STANDARD
TZOFFSETFROM:-0400
TZOFFSETTO:-0500
TZNAME:EST
DTSTART:20261101T060000
END:STANDARD
END:VTIMEZONE
BEGIN:VEVENT
DTSTART;TZID=America/Toronto:20251206T100000
DTEND;TZID=America/Toronto:20251206T150000
DTSTAMP:20260420T173408
CREATED:20241118T185748Z
LAST-MODIFIED:20251202T145551Z
UID:12940-1765015200-1765033200@www.compton.ca
SUMMARY:Marché - Noël pour son école
DESCRIPTION:
URL:https://www.compton.ca/evenement/marche-noel-pour-son-ecole/
LOCATION:Parc des Lions\, Compton\, QC\, J0B 1L0\, Canada
CATEGORIES:Communautaire
END:VEVENT
BEGIN:VEVENT
DTSTART;TZID=America/Toronto:20251209T193000
DTEND;TZID=America/Toronto:20251209T210000
DTSTAMP:20260420T173408
CREATED:20251111T205936Z
LAST-MODIFIED:20251111T205936Z
UID:15483-1765308600-1765314000@www.compton.ca
SUMMARY:Séance du conseil budget
DESCRIPTION:
URL:https://www.compton.ca/evenement/seance-du-conseil-budget/
LOCATION:Hôtel de ville\, 3 chemin de Hatley\, Compton\, Estrie\, J0B 1L0\, Canada
CATEGORIES:Municipal
END:VEVENT
BEGIN:VEVENT
DTSTART;TZID=America/Toronto:20251211T133000
DTEND;TZID=America/Toronto:20251211T150000
DTSTAMP:20260420T173408
CREATED:20251111T205402Z
LAST-MODIFIED:20251111T205402Z
UID:15481-1765459800-1765465200@www.compton.ca
SUMMARY:Café-In Spectacle de musique de Noël piano et voix avec François et Lucie
DESCRIPTION:
URL:https://www.compton.ca/evenement/cafe-in-spectacle-de-musique-de-noel-piano-et-voix-avec-francois-et-lucie/
LOCATION:Sous-sol de l’église
CATEGORIES:Culturel
END:VEVENT
BEGIN:VEVENT
DTSTART;TZID=America/Toronto:20251214T140000
DTEND;TZID=America/Toronto:20251214T160000
DTSTAMP:20260420T173408
CREATED:20251208T191223Z
LAST-MODIFIED:20251208T191223Z
UID:15715-1765720800-1765728000@www.compton.ca
SUMMARY:Venez découvrir la beauté de la Nativité
DESCRIPTION:La communauté de l’église St-Thomas d’Aquin vous invite à une projection exceptionnelle de l’épisode consacré à la naissance de Jésus\, tiré de la série internationale The Chosen. \nDate : Dimanche 14 décembre Lieu : Sous-sol de l’église St-Thomas d’Aquin à Compton \nHeure : 14 h \n\nSalle 4 : Adultes\nSalle 1 : Enfants\n\nC’est une occasion unique de vivre ensemble le récit de Noël à travers une série qui a touché des millions de spectateurs dans le monde. L’épisode met en lumière la simplicité et la profondeur de l’événement de la Nativité\, dans une mise en scène émouvante et accessible à tous. \nEntrée libre \nUn temps de convivialité suivra la projection\, pour partager vos impressions autour d’un café et de quelques douceurs.
URL:https://www.compton.ca/evenement/venez-decouvrir-la-beaute-de-la-nativite/
LOCATION:Sous-sol de l’église
CATEGORIES:Communautaire
END:VEVENT
BEGIN:VEVENT
DTSTART;TZID=America/Toronto:20251218T133000
DTEND;TZID=America/Toronto:20251218T153000
DTSTAMP:20260420T173408
CREATED:20250922T180807Z
LAST-MODIFIED:20250922T180807Z
UID:15074-1766064600-1766071800@www.compton.ca
SUMMARY:Café-In des Fêtes
DESCRIPTION:
URL:https://www.compton.ca/evenement/cafe-in-des-fetes-2/
LOCATION:Sous-sol de l’église
CATEGORIES:Communautaire
END:VEVENT
BEGIN:VEVENT
DTSTART;TZID=America/Toronto:20251220T100000
DTEND;TZID=America/Toronto:20251220T120000
DTSTAMP:20260420T173408
CREATED:20251208T191047Z
LAST-MODIFIED:20251208T191047Z
UID:15713-1766224800-1766232000@www.compton.ca
SUMMARY:Matinée magique à la bibliothèque\, coloriage\, chocolat chaud enchanté et plus.
DESCRIPTION:Le samedi 20 décembre\, ce sera une matinée magique à votre bibliothèque! Coloriages festifs\, chocolat chaud enchanté et autres surprises attendront les familles qui viendront faire leur tour pendant l’ouverture\, soit entre 10h et 13h. On vous attend avec plaisir!
URL:https://www.compton.ca/evenement/matinee-magique-a-la-bibliotheque-coloriage-chocolat-chaud-enchante-et-plus/
LOCATION:Estrie
CATEGORIES:Familles
END:VEVENT
BEGIN:VEVENT
DTSTART;TZID=America/Toronto:20251220T110000
DTEND;TZID=America/Toronto:20251220T140000
DTSTAMP:20260420T173408
CREATED:20251215T205230Z
LAST-MODIFIED:20251215T205230Z
UID:15788-1766228400-1766239200@www.compton.ca
SUMMARY:Activité Raclette au profit de Compton pour son école
DESCRIPTION:Rejoignez le comité Compton pour son école ce samedi pour un moment magique sous le ciel hivernal ! \nDégustation de raclette sur les fours européen\, vin chaud\, chocolat chaud\, musique & plaisir!\nAu programme :\n– Dégustation de raclette sur fours européens\n– Vin chaud et chocolat chaud réconfortants\n– Musique festive & feu pour réchauffer l’ambiance\n– Du plaisir pour toute la famille !\n– Le Vignoble Grange Hatley sera également en boutique pour vous faire découvrir ses vins \nUne contribution volontaire est suggérée pour soutenir Compton et son école (argent comptant ou carte de débit seulement).\n Note importante :\nLa quantité et le personnel étant limités\, l’activité est une dégustation et non un repas complet.\nOn vous attend avec impatience !
URL:https://www.compton.ca/evenement/activite-raclette-au-profit-de-compton-pour-son-ecole/
LOCATION:Estrie
CATEGORIES:Communautaire
END:VEVENT
END:VCALENDAR