BEGIN:VCALENDAR
VERSION:2.0
PRODID:-//Municipalité de Compton - ECPv6.15.14//NONSGML v1.0//EN
CALSCALE:GREGORIAN
METHOD:PUBLISH
X-WR-CALNAME:Municipalité de Compton
X-ORIGINAL-URL:https://www.compton.ca
X-WR-CALDESC:évènements pour Municipalité de Compton
REFRESH-INTERVAL;VALUE=DURATION:PT1H
X-Robots-Tag:noindex
X-PUBLISHED-TTL:PT1H
BEGIN:VTIMEZONE
TZID:America/Toronto
BEGIN:DAYLIGHT
TZOFFSETFROM:-0500
TZOFFSETTO:-0400
TZNAME:EDT
DTSTART:20240310T070000
END:DAYLIGHT
BEGIN:STANDARD
TZOFFSETFROM:-0400
TZOFFSETTO:-0500
TZNAME:EST
DTSTART:20241103T060000
END:STANDARD
BEGIN:DAYLIGHT
TZOFFSETFROM:-0500
TZOFFSETTO:-0400
TZNAME:EDT
DTSTART:20250309T070000
END:DAYLIGHT
BEGIN:STANDARD
TZOFFSETFROM:-0400
TZOFFSETTO:-0500
TZNAME:EST
DTSTART:20251102T060000
END:STANDARD
BEGIN:DAYLIGHT
TZOFFSETFROM:-0500
TZOFFSETTO:-0400
TZNAME:EDT
DTSTART:20260308T070000
END:DAYLIGHT
BEGIN:STANDARD
TZOFFSETFROM:-0400
TZOFFSETTO:-0500
TZNAME:EST
DTSTART:20261101T060000
END:STANDARD
END:VTIMEZONE
BEGIN:VEVENT
DTSTART;TZID=America/Toronto:20250701T130000
DTEND;TZID=America/Toronto:20250701T153000
DTSTAMP:20260420T091003
CREATED:20250619T153937Z
LAST-MODIFIED:20250619T153937Z
UID:14520-1751374800-1751383800@www.compton.ca
SUMMARY:Casse-têtes\, mandalas et coloriages à la bibliothèque
DESCRIPTION:Tous les mardis après-midi du mois de juillet\, grands-parents\, petits-enfants\, parents et amis sont invités à venir jouer\, jaser et partager de bons moments. \nDes jeux classiques aux nouveautés\, il y en aura pour tous les goûts. \nNous vous offrons même café et rafraîchissement! \n\nLe 1er juillet: Casse-têtes\, mandalas et coloriages!\nLe 8 juillet: Skip-Bo\, Jok-R-Ummy et autres jeux de cartes!\nLe 15 juillet: Magic the Gathering animé par Phillip Malboeuf!\nLe 22 juillet: Légos en folie!\nLe 29 juillet: Jeux de société à découvrir!\n\nDe 13h à 15h30 au 29 chemin Hatley à Compton. \nNous avons bien hâte de vous accueillir cet été dans notre espace frais et confortable. C’est un rendez-vous!
URL:https://www.compton.ca/evenement/casse-tetes-mandalas-et-coloriages-a-la-bibliotheque/
LOCATION:Bibliothèque Estelle-Bureau\, 29 chemin de Hatley\, Compton\, Québec\, J0B 1L0\, Canada
CATEGORIES:Familles
END:VEVENT
BEGIN:VEVENT
DTSTART;TZID=America/Toronto:20250704T150000
DTEND;TZID=America/Toronto:20250704T200000
DTSTAMP:20260420T091003
CREATED:20250528T130130Z
LAST-MODIFIED:20250528T130130Z
UID:14348-1751641200-1751659200@www.compton.ca
SUMMARY:Grande Fête du Manga à la bibliothèque
DESCRIPTION:
URL:https://www.compton.ca/evenement/grande-fete-du-manga-a-la-bibliotheque/
LOCATION:Bibliothèque Estelle-Bureau\, 29 chemin de Hatley\, Compton\, Québec\, J0B 1L0\, Canada
CATEGORIES:Culturel
END:VEVENT
BEGIN:VEVENT
DTSTART;TZID=America/Toronto:20250705T100000
DTEND;TZID=America/Toronto:20250705T190000
DTSTAMP:20260420T091003
CREATED:20250605T155239Z
LAST-MODIFIED:20250605T155239Z
UID:14452-1751709600-1751742000@www.compton.ca
SUMMARY:Réservation gazebo Récré-O-Parc
DESCRIPTION:
URL:https://www.compton.ca/evenement/reservation-gazebo-recre-o-parc/
LOCATION:Récré-O-Parc\, 40 rue du Parc\, Compton\, Québec\, J0B 1L0
CATEGORIES:Réservation
END:VEVENT
BEGIN:VEVENT
DTSTART;TZID=America/Toronto:20250706T100000
DTEND;TZID=America/Toronto:20250706T170000
DTSTAMP:20260420T091003
CREATED:20250605T155333Z
LAST-MODIFIED:20250605T155333Z
UID:14454-1751796000-1751821200@www.compton.ca
SUMMARY:Réservation gazebo Récré-O-Parc
DESCRIPTION:
URL:https://www.compton.ca/evenement/reservation-gazebo-recre-o-parc-2/
LOCATION:Estrie
CATEGORIES:Réservation
END:VEVENT
BEGIN:VEVENT
DTSTART;TZID=America/Toronto:20250706T130000
DTEND;TZID=America/Toronto:20250706T160000
DTSTAMP:20260420T091003
CREATED:20250618T183616Z
LAST-MODIFIED:20250618T183616Z
UID:14511-1751806800-1751817600@www.compton.ca
SUMMARY:Fête annuelle de crème glacée et fraises à Moe's River
DESCRIPTION:Fête annuelle de crème glacée et fraises à Moe’s River \nÉglise de Moe’s River \nDimanche 6 juillet de 13 h à 16 h \nAdultes: 10$ \nEnfants 6 à 12 ans : 5$ \nEnfants 5 ans et moins : gratuit \nTous les fonds seront versés à l’entretien de l’église. \nStationnement disponible sur le terrain de Ronnie Haseltine \nApportez vos chaises \nIl y aura de la musique\, de la danse\, un encan silencieux\, une tombola et des desserts.
URL:https://www.compton.ca/evenement/fete-annuelle-de-creme-glacee-et-fraises-a-moes-river/
LOCATION:Estrie
CATEGORIES:Communautaire
END:VEVENT
BEGIN:VEVENT
DTSTART;TZID=America/Toronto:20250708T130000
DTEND;TZID=America/Toronto:20250708T153000
DTSTAMP:20260420T091003
CREATED:20250619T154039Z
LAST-MODIFIED:20250619T154039Z
UID:14522-1751979600-1751988600@www.compton.ca
SUMMARY:Skip-Bo\, Jok-R-Ummy et autres jeux de cartes à la bibliothèque
DESCRIPTION:Tous les mardis après-midi du mois de juillet\, grands-parents\, petits-enfants\, parents et amis sont invités à venir jouer\, jaser et partager de bons moments. \nDes jeux classiques aux nouveautés\, il y en aura pour tous les goûts. \nNous vous offrons même café et rafraîchissement! \n\nLe 1er juillet: Casse-têtes\, mandalas et coloriages!\nLe 8 juillet: Skip-Bo\, Jok-R-Ummy et autres jeux de cartes!\nLe 15 juillet: Magic the Gathering animé par Phillip Malboeuf!\nLe 22 juillet: Légos en folie!\nLe 29 juillet: Jeux de société à découvrir!\n\nDe 13h à 15h30 au 29 chemin Hatley à Compton. \nNous avons bien hâte de vous accueillir cet été dans notre espace frais et confortable. C’est un rendez-vous!
URL:https://www.compton.ca/evenement/skip-bo-jok-r-ummy-et-autres-jeux-de-cartes-a-la-bibliotheque/
LOCATION:Bibliothèque Estelle-Bureau\, 29 chemin de Hatley\, Compton\, Québec\, J0B 1L0\, Canada
CATEGORIES:Familles
END:VEVENT
BEGIN:VEVENT
DTSTART;TZID=America/Toronto:20250708T133000
DTEND;TZID=America/Toronto:20250708T193000
DTSTAMP:20260420T091003
CREATED:20250703T151408Z
LAST-MODIFIED:20250703T151408Z
UID:14604-1751981400-1752003000@www.compton.ca
SUMMARY:Collecte de sang à Compton
DESCRIPTION:ORGANISÉE PAR : La Paroisse Notre-Dame-de-L’Unité et le Club Lions\nLIEU : Église (porte 3 – sous-sol – local 1)\nADRESSE : 6747\, route Louis-S.-St-Laurent\, Compton\nDATE : Mardi 8 juillet 2025\, entre 13 h 30 et 19 h 30\nOBJECTIF : convaincre 60 donneurs de relever leurs manches\, le temps d’un petit don de sang. \nHéma-Québec recommande de prendre rendez-vous avant de se présenter en collecte. Vous pouvez le faire facilement en ligne : https://www.hemaquebec.ca/prendre-rendez-vous ou par téléphone au 1 800 343-7264.
URL:https://www.compton.ca/evenement/collecte-de-sang-a-compton-2/
LOCATION:Sous-sol de l’église
CATEGORIES:Communautaire
END:VEVENT
BEGIN:VEVENT
DTSTART;TZID=America/Toronto:20250710T183000
DTEND;TZID=America/Toronto:20250710T193000
DTSTAMP:20260420T091003
CREATED:20250528T132613Z
LAST-MODIFIED:20250528T132613Z
UID:14380-1752172200-1752175800@www.compton.ca
SUMMARY:Tournée estivale du Comité de sécurité routière et piétonnière
DESCRIPTION:
URL:https://www.compton.ca/evenement/tournee-estivale-du-comite-de-securite-routiere-et-pietonniere/
LOCATION:Estrie
CATEGORIES:Municipal
END:VEVENT
BEGIN:VEVENT
DTSTART;TZID=America/Toronto:20250712T100000
DTEND;TZID=America/Toronto:20250712T200000
DTSTAMP:20260420T091003
CREATED:20250605T155450Z
LAST-MODIFIED:20250605T155450Z
UID:14456-1752314400-1752350400@www.compton.ca
SUMMARY:Réservation gazebo Récré-O-Parc
DESCRIPTION:
URL:https://www.compton.ca/evenement/reservation-gazebo-recre-o-parc-3/
LOCATION:Estrie
CATEGORIES:Réservation
END:VEVENT
BEGIN:VEVENT
DTSTART;TZID=America/Toronto:20250713T100000
DTEND;TZID=America/Toronto:20250713T160000
DTSTAMP:20260420T091003
CREATED:20250617T200426Z
LAST-MODIFIED:20250617T200426Z
UID:14509-1752400800-1752422400@www.compton.ca
SUMMARY:Réservation gazebo Récré-O-Parc Fête privée
DESCRIPTION:
URL:https://www.compton.ca/evenement/reservation-gazebo-recre-o-parc-fete-privee/
LOCATION:Récré-O-Parc\, 40 rue du Parc\, Compton\, Québec\, J0B 1L0
CATEGORIES:Réservation
END:VEVENT
BEGIN:VEVENT
DTSTART;TZID=America/Toronto:20250713T133000
DTEND;TZID=America/Toronto:20250713T160000
DTSTAMP:20260420T091003
CREATED:20250619T154608Z
LAST-MODIFIED:20250619T154807Z
UID:14528-1752413400-1752422400@www.compton.ca
SUMMARY:St-Laurent s'endimanche : Spectacle de Pièce sur pièce
DESCRIPTION:Les activités sont gratuites et auront lieu beau temps mauvais temps dans le jardin du lieu historique. Toutes les activités se tiennent à 13h30. \nStéphanie Blanchette (voix\, podorythmie\, percussions) et Olivier Brousseau (voix\, guitare\, kick) œuvrent dans le milieu musical depuis plus de 25 ans et chantent ensemble depuis une quinzaine d’années. Ils unissent leurs voix dans un projet commun : le duo folk Pièce sur Pièce. \nC’est en misant d’abord sur leur complicité vocale et sur des arrangements musicaux dépouillés qu’ils nous présentent des pièces originales provenant pour la plupart de la plume de divers auteurs. Parmi ceux-ci\, le conteur\, écrivain et membre des Marchands de Mémoire Jean-François Létourneau signe plusieurs des textes de Pièce sur Pièce. Parmi les autres auteurs\, on retrouve aussi le poète et écrivain David Goudreault\, l’auteure et poétesse Mélanie Noël et l’auteur Sylvain Manseau. \nTous ces textes\, habilement ficelés\, sont mis en musique par Olivier Brousseau qui assure également les arrangements musicaux de la formation. Richard Séguin\, Vincent Vallières et Raphaël Rioux sont d’autres collaborateurs qui ont offert des chansons pour meubler le répertoire du duo estrien qui compte deux albums à son actif.  À Compton\, le duo Pièce sur Pièce sera accompagné par un guitariste de grand talent\, Mathieu Perreault\, qui a apporté sa touche sur tous les enregistrements de la formation qui présentera principalement les chansons de son dernier opus L’aube dans le rétroviseur. \nStéphanie Blanchette (voix\, podorythmie\, percussions) et Olivier Brousseau (voix\, guitare\, kick) œuvrent dans le milieu musical depuis plus de 25 ans et chantent ensemble depuis une quinzaine d’années. Ils unissent leurs voix dans un projet commun : le duo folk Pièce sur Pièce. \nC’est en misant d’abord sur leur complicité vocale et sur des arrangements musicaux dépouillés qu’ils nous présentent des pièces originales provenant pour la plupart de la plume de divers auteurs. Parmi ceux-ci\, le conteur\, écrivain et membre des Marchands de Mémoire Jean-François Létourneau signe plusieurs des textes de Pièce sur Pièce. Parmi les autres auteurs\, on retrouve aussi le poète et écrivain David Goudreault\, l’auteure et poétesse Mélanie Noël et l’auteur Sylvain Manseau. \nTous ces textes\, habilement ficelés\, sont mis en musique par Olivier Brousseau qui assure également les arrangements musicaux de la formation. Richard Séguin\, Vincent Vallières et Raphaël Rioux sont d’autres collaborateurs qui ont offert des chansons pour meubler le répertoire du duo estrien qui compte deux albums à son actif.  À Compton\, le duo Pièce sur Pièce sera accompagné par un guitariste de grand talent\, Mathieu Perreault\, qui a apporté sa touche sur tous les enregistrements de la formation qui présentera principalement les chansons de son dernier opus L’aube dans le rétroviseur.
URL:https://www.compton.ca/evenement/spectacle-de-piece-sur-piece-au-lieu-historique-national-gratuit/
LOCATION:Lieu historique national Louis-S.-St-Laurent
CATEGORIES:Culturel
END:VEVENT
BEGIN:VEVENT
DTSTART;TZID=America/Toronto:20250715T130000
DTEND;TZID=America/Toronto:20250715T153000
DTSTAMP:20260420T091003
CREATED:20250619T154129Z
LAST-MODIFIED:20250619T154129Z
UID:14524-1752584400-1752593400@www.compton.ca
SUMMARY:Magic the Gathering animé par Phillip Malboeuf à la bibliothèque
DESCRIPTION:Tous les mardis après-midi du mois de juillet\, grands-parents\, petits-enfants\, parents et amis sont invités à venir jouer\, jaser et partager de bons moments. \nDes jeux classiques aux nouveautés\, il y en aura pour tous les goûts. \nNous vous offrons même café et rafraîchissement! \n\nLe 1er juillet: Casse-têtes\, mandalas et coloriages!\nLe 8 juillet: Skip-Bo\, Jok-R-Ummy et autres jeux de cartes!\nLe 15 juillet: Magic the Gathering animé par Phillip Malboeuf!\nLe 22 juillet: Légos en folie!\nLe 29 juillet: Jeux de société à découvrir!\n\nDe 13h à 15h30 au 29 chemin Hatley à Compton. \nNous avons bien hâte de vous accueillir cet été dans notre espace frais et confortable. C’est un rendez-vous!
URL:https://www.compton.ca/evenement/magic-the-gathering-anime-par-phillip-malboeuf-a-la-bibliotheque/
LOCATION:Bibliothèque Estelle-Bureau\, 29 chemin de Hatley\, Compton\, Québec\, J0B 1L0\, Canada
CATEGORIES:Familles
END:VEVENT
BEGIN:VEVENT
DTSTART;TZID=America/Toronto:20250719T100000
DTEND;TZID=America/Toronto:20250719T200000
DTSTAMP:20260420T091003
CREATED:20250626T153117Z
LAST-MODIFIED:20250626T153117Z
UID:14555-1752919200-1752955200@www.compton.ca
SUMMARY:Réservation du gazebo du Récré-O-Parc pour fête privée
DESCRIPTION:
URL:https://www.compton.ca/evenement/reservation-du-gazebo-du-recre-o-parc-pour-fete-privee/
LOCATION:Récré-O-Parc\, 40 rue du Parc\, Compton\, Québec\, J0B 1L0
CATEGORIES:Réservation
END:VEVENT
BEGIN:VEVENT
DTSTART;TZID=America/Toronto:20250722T130000
DTEND;TZID=America/Toronto:20250722T153000
DTSTAMP:20260420T091003
CREATED:20250619T154230Z
LAST-MODIFIED:20250619T154230Z
UID:14526-1753189200-1753198200@www.compton.ca
SUMMARY:Légos en folie à la bibliothèque
DESCRIPTION:Tous les mardis après-midi du mois de juillet\, grands-parents\, petits-enfants\, parents et amis sont invités à venir jouer\, jaser et partager de bons moments. \nDes jeux classiques aux nouveautés\, il y en aura pour tous les goûts. \nNous vous offrons même café et rafraîchissement! \n\nLe 1er juillet: Casse-têtes\, mandalas et coloriages!\nLe 8 juillet: Skip-Bo\, Jok-R-Ummy et autres jeux de cartes!\nLe 15 juillet: Magic the Gathering animé par Phillip Malboeuf!\nLe 22 juillet: Légos en folie!\nLe 29 juillet: Jeux de société à découvrir!\n\nDe 13h à 15h30 au 29 chemin Hatley à Compton. \nNous avons bien hâte de vous accueillir cet été dans notre espace frais et confortable. C’est un rendez-vous!
URL:https://www.compton.ca/evenement/legos-en-folie-a-la-bibliotheque/
LOCATION:Bibliothèque Estelle-Bureau\, 29 chemin de Hatley\, Compton\, Québec\, J0B 1L0\, Canada
CATEGORIES:Familles
END:VEVENT
BEGIN:VEVENT
DTSTART;TZID=America/Toronto:20250726T103000
DTEND;TZID=America/Toronto:20250726T133000
DTSTAMP:20260420T091003
CREATED:20250129T143021Z
LAST-MODIFIED:20250603T130441Z
UID:13559-1753525800-1753536600@www.compton.ca
SUMMARY:Journée de la famille et spectacle de cirque au Récré-O-Parc
DESCRIPTION:
URL:https://www.compton.ca/evenement/journee-de-la-famille-et-spectacle-de-cirque-au-recre-o-parc/
LOCATION:Récré-O-Parc\, 40 rue du Parc\, Compton\, Québec\, J0B 1L0
CATEGORIES:Familles
ORGANIZER;CN="Municipalit%C3%A9 de Compton":MAILTO:loisirs@compton.ca
END:VEVENT
BEGIN:VEVENT
DTSTART;TZID=America/Toronto:20250727T080000
DTEND;TZID=America/Toronto:20250727T170000
DTSTAMP:20260420T091003
CREATED:20250610T125124Z
LAST-MODIFIED:20250610T130705Z
UID:14471-1753603200-1753635600@www.compton.ca
SUMMARY:Réservation gazebo Récré-O-Parc
DESCRIPTION:
URL:https://www.compton.ca/evenement/reservation-gazebo-recre-o-parc-4/
LOCATION:Récré-O-Parc\, 40 rue du Parc\, Compton\, Québec\, J0B 1L0
CATEGORIES:Réservation
END:VEVENT
BEGIN:VEVENT
DTSTART;TZID=America/Toronto:20250729T130000
DTEND;TZID=America/Toronto:20250729T153000
DTSTAMP:20260420T091003
CREATED:20250724T133740Z
LAST-MODIFIED:20250724T133740Z
UID:14677-1753794000-1753803000@www.compton.ca
SUMMARY:Jeux de société à découvrir à la bibliothèque
DESCRIPTION:Tous les mardis après-midi du mois de juillet\, grands-parents\, petits-enfants\, parents et amis sont invités à venir jouer\, jaser et partager de bons moments. \nDes jeux classiques aux nouveautés\, il y en aura pour tous les goûts. \nNous vous offrons même café et rafraîchissement! \n\nLe 29 juillet: Jeux de société à découvrir!\n\nDe 13h à 15h30 au 29 chemin Hatley à Compton. \nNous avons bien hâte de vous accueillir cet été dans notre espace frais et confortable. C’est un rendez-vous!
URL:https://www.compton.ca/evenement/jeux-de-societe-a-decouvrir-a-la-bibliotheque/
LOCATION:Bibliothèque Estelle-Bureau\, 29 chemin de Hatley\, Compton\, Québec\, J0B 1L0\, Canada
CATEGORIES:Familles
END:VEVENT
BEGIN:VEVENT
DTSTART;TZID=America/Toronto:20250731T183000
DTEND;TZID=America/Toronto:20250731T203000
DTSTAMP:20260420T091003
CREATED:20250724T154421Z
LAST-MODIFIED:20250724T154815Z
UID:14683-1753986600-1753993800@www.compton.ca
SUMMARY:Jardin à visiter au 205 chemin de Hatley
DESCRIPTION:Visites de jardins de 18 h 30 à 20 h 30\, gratuit et ouvert à tous. \nVous êtes invités à porter des chaussures confortables. L’activité aura lieu beau temps-mauvais temps. \nCes visites sont organisées par le Comité d’embellissement de la Municipalité de Compton.
URL:https://www.compton.ca/evenement/jardins-a-visiter-au-205-chemin-de-hatley/
LOCATION:Estrie
CATEGORIES:Communautaire
END:VEVENT
END:VCALENDAR