BEGIN:VCALENDAR
VERSION:2.0
PRODID:-//Municipalité de Compton - ECPv6.15.14//NONSGML v1.0//EN
CALSCALE:GREGORIAN
METHOD:PUBLISH
X-WR-CALNAME:Municipalité de Compton
X-ORIGINAL-URL:https://www.compton.ca
X-WR-CALDESC:évènements pour Municipalité de Compton
REFRESH-INTERVAL;VALUE=DURATION:PT1H
X-Robots-Tag:noindex
X-PUBLISHED-TTL:PT1H
BEGIN:VTIMEZONE
TZID:America/Toronto
BEGIN:DAYLIGHT
TZOFFSETFROM:-0500
TZOFFSETTO:-0400
TZNAME:EDT
DTSTART:20250309T070000
END:DAYLIGHT
BEGIN:STANDARD
TZOFFSETFROM:-0400
TZOFFSETTO:-0500
TZNAME:EST
DTSTART:20251102T060000
END:STANDARD
BEGIN:DAYLIGHT
TZOFFSETFROM:-0500
TZOFFSETTO:-0400
TZNAME:EDT
DTSTART:20260308T070000
END:DAYLIGHT
BEGIN:STANDARD
TZOFFSETFROM:-0400
TZOFFSETTO:-0500
TZNAME:EST
DTSTART:20261101T060000
END:STANDARD
BEGIN:DAYLIGHT
TZOFFSETFROM:-0500
TZOFFSETTO:-0400
TZNAME:EDT
DTSTART:20270314T070000
END:DAYLIGHT
BEGIN:STANDARD
TZOFFSETFROM:-0400
TZOFFSETTO:-0500
TZNAME:EST
DTSTART:20271107T060000
END:STANDARD
END:VTIMEZONE
BEGIN:VEVENT
DTSTART;TZID=America/Toronto:20260418T133000
DTEND;TZID=America/Toronto:20260418T153000
DTSTAMP:20260421T064749
CREATED:20250326T191600Z
LAST-MODIFIED:20260311T123630Z
UID:13961-1776519000-1776526200@www.compton.ca
SUMMARY:Défi RAMASSE TA RUE
DESCRIPTION:
URL:https://www.compton.ca/evenement/defi-ramasse-ta-rue/
LOCATION:Hôtel de ville\, 3 chemin de Hatley\, Compton\, Estrie\, J0B 1L0\, Canada
CATEGORIES:Communautaire
END:VEVENT
BEGIN:VEVENT
DTSTART;TZID=America/Toronto:20260417T180000
DTEND;TZID=America/Toronto:20260417T200000
DTSTAMP:20260421T064749
CREATED:20260311T182226Z
LAST-MODIFIED:20260311T182247Z
UID:16335-1776448800-1776456000@www.compton.ca
SUMMARY:Soirée ADOS - Jeu Exploding Kittens
DESCRIPTION:
URL:https://www.compton.ca/evenement/soiree-ados-jeu-exploding-kittens/
LOCATION:Bibliothèque Estelle-Bureau\, 29 chemin de Hatley\, Compton\, Québec\, J0B 1L0\, Canada
CATEGORIES:Communautaire
END:VEVENT
BEGIN:VEVENT
DTSTART;TZID=America/Toronto:20260416T190000
DTEND;TZID=America/Toronto:20260416T210000
DTSTAMP:20260421T064749
CREATED:20260109T131801Z
LAST-MODIFIED:20260414T174519Z
UID:15925-1776366000-1776373200@www.compton.ca
SUMMARY:Soirée pickleball au gymnase de l'école
DESCRIPTION:
URL:https://www.compton.ca/evenement/soiree-pickleball-au-gymnase-de-lecole-3/
LOCATION:Gymnase de l’école
CATEGORIES:Activités sportives
END:VEVENT
BEGIN:VEVENT
DTSTART;TZID=America/Toronto:20260414T193000
DTEND;TZID=America/Toronto:20260414T213000
DTSTAMP:20260421T064749
CREATED:20260106T195022Z
LAST-MODIFIED:20260212T142020Z
UID:15876-1776195000-1776202200@www.compton.ca
SUMMARY:Séance du conseil
DESCRIPTION:
URL:https://www.compton.ca/evenement/seance-du-conseil/
LOCATION:Hôtel de ville\, 3 chemin de Hatley\, Compton\, Estrie\, J0B 1L0\, Canada
CATEGORIES:Municipal
END:VEVENT
BEGIN:VEVENT
DTSTART;TZID=America/Toronto:20260414T130000
DTEND;TZID=America/Toronto:20260414T163000
DTSTAMP:20260421T064749
CREATED:20260303T144150Z
LAST-MODIFIED:20260303T144150Z
UID:16276-1776171600-1776184200@www.compton.ca
SUMMARY:Bingo de l'Âge d'or de Compton
DESCRIPTION:
URL:https://www.compton.ca/evenement/bingo-de-lage-dor-de-compton-3/
LOCATION:Sous-sol de l’église
CATEGORIES:Communautaire
END:VEVENT
BEGIN:VEVENT
DTSTART;TZID=America/Toronto:20260411T100000
DTEND;TZID=America/Toronto:20260411T130000
DTSTAMP:20260421T064749
CREATED:20260311T181720Z
LAST-MODIFIED:20260311T181720Z
UID:16333-1775901600-1775912400@www.compton.ca
SUMMARY:Matinée jeu de société Magic the Gathering
DESCRIPTION:
URL:https://www.compton.ca/evenement/matinee-jeu-de-societe-magic-the-gathering-2/
LOCATION:Bibliothèque Estelle-Bureau\, 29 chemin de Hatley\, Compton\, Québec\, J0B 1L0\, Canada
CATEGORIES:Communautaire
END:VEVENT
BEGIN:VEVENT
DTSTART;TZID=America/Toronto:20260407T080000
DTEND;TZID=America/Toronto:20260407T170000
DTSTAMP:20260421T064749
CREATED:20260401T192818Z
LAST-MODIFIED:20260401T192915Z
UID:16469-1775548800-1775581200@www.compton.ca
SUMMARY:Début des inscriptions au camp de jour Kionata
DESCRIPTION:
URL:https://www.compton.ca/evenement/debut-des-inscriptions-au-camp-de-jour-kionata/
LOCATION:Estrie
CATEGORIES:Familles
END:VEVENT
BEGIN:VEVENT
DTSTART;TZID=America/Toronto:20260404T103000
DTEND;TZID=America/Toronto:20260404T120000
DTSTAMP:20260421T064749
CREATED:20260121T212328Z
LAST-MODIFIED:20260121T212328Z
UID:16023-1775298600-1775304000@www.compton.ca
SUMMARY:Spectacle de Pâques et chasse aux cocos
DESCRIPTION:
URL:https://www.compton.ca/evenement/spectacle-de-paques-et-chasse-aux-cocos-2/
LOCATION:Bibliothèque Estelle-Bureau\, 29 chemin de Hatley\, Compton\, Québec\, J0B 1L0\, Canada
CATEGORIES:Familles
END:VEVENT
BEGIN:VEVENT
DTSTART;TZID=America/Toronto:20260403T090000
DTEND;TZID=America/Toronto:20260403T170000
DTSTAMP:20260421T064749
CREATED:20260324T134302Z
LAST-MODIFIED:20260324T134302Z
UID:16413-1775206800-1775235600@www.compton.ca
SUMMARY:Campagne du Pain partagé (Caritas Estrie)\, sous-sol église\, porte 4\, 9 h à 17 h
DESCRIPTION:Vendredi saint – Campagne du Pain partagé (Caritas Estrie) \nDans le cadre de la campagne du Pain partagé de Caritas Estrie\, la population est invitée à se procurer un pain au coût de 5 $. \nDes bénévoles seront présents pour vous accueillir au sous-sol de l’église (entrée porte 4)\,de 9 h à 17 h. \nUn geste simple et significatif pour soutenir une bonne cause.
URL:https://www.compton.ca/evenement/campagne-du-pain-partage-caritas-estrie-sous-sol-eglise-porte-4-9-h-a-17-h/
LOCATION:Sous-sol de l’église
CATEGORIES:Communautaire
END:VEVENT
BEGIN:VEVENT
DTSTART;TZID=America/Toronto:20260402T133000
DTEND;TZID=America/Toronto:20260402T153000
DTSTAMP:20260421T064749
CREATED:20260212T143211Z
LAST-MODIFIED:20260303T184750Z
UID:16141-1775136600-1775143800@www.compton.ca
SUMMARY:Groupe de discussion politique familiale et des aînés
DESCRIPTION:
URL:https://www.compton.ca/evenement/cafe-in-groupe-de-discussion-accompagne-dune-tarte-au-sirop-derable/
LOCATION:Bibliothèque Estelle-Bureau\, 29 chemin de Hatley\, Compton\, Québec\, J0B 1L0\, Canada
CATEGORIES:Communautaire
END:VEVENT
BEGIN:VEVENT
DTSTART;TZID=America/Toronto:20260331T150000
DTEND;TZID=America/Toronto:20260331T180000
DTSTAMP:20260421T064749
CREATED:20250320T125522Z
LAST-MODIFIED:20260109T143837Z
UID:13912-1774969200-1774980000@www.compton.ca
SUMMARY:CLINIQUE D'IMPÔT DU CAB sur rendez-vous à Compton
DESCRIPTION:CLINIQUE D’IMPÔT DU CAB sur rendez-vous à Compton \nSous-sol de l’église\, salle 4\, 6747 Rte Louis-S.-Saint-Laurent\, Compton\, J0B 1L0 \n\n\n\nGRATUIT \nPour rendez-vous\nou information :\n819-849-7011 #224
URL:https://www.compton.ca/evenement/clinique-dimpot-du-cab-sur-rendez-vous-a-compton/
LOCATION:Sous-sol de l’église
CATEGORIES:Communautaire
END:VEVENT
BEGIN:VEVENT
DTSTART;TZID=America/Toronto:20260327T180000
DTEND;TZID=America/Toronto:20260327T200000
DTSTAMP:20260421T064749
CREATED:20260303T133803Z
LAST-MODIFIED:20260303T133803Z
UID:16217-1774634400-1774641600@www.compton.ca
SUMMARY:Soirée Zombicide à la bibliothèque
DESCRIPTION:Activité pour les jeunes de 12 ans et plus.\nViens découvrir ce jeu coopératif où il faut survivre contre une horde de zombies!\nLes places sont limitées\, alors confirmes ta présence en nous contactant au 819 835-0404 ou par courriel à biblio003@reseaubiblioestrie.qc.ca
URL:https://www.compton.ca/evenement/soiree-zombicide-a-la-bibliotheque/
LOCATION:Bibliothèque Estelle-Bureau\, 29 chemin de Hatley\, Compton\, Québec\, J0B 1L0\, Canada
CATEGORIES:Culturel
END:VEVENT
BEGIN:VEVENT
DTSTART;TZID=America/Toronto:20260326T190000
DTEND;TZID=America/Toronto:20260326T210000
DTSTAMP:20260421T064749
CREATED:20260311T143505Z
LAST-MODIFIED:20260311T143505Z
UID:16327-1774551600-1774558800@www.compton.ca
SUMMARY:Assemblée annuelle de la Société d’histoire de Compton
DESCRIPTION:
URL:https://www.compton.ca/evenement/assemblee-annuelle-de-la-societe-dhistoire-de-compton/
LOCATION:Hôtel de ville\, 3 chemin de Hatley\, Compton\, Estrie\, J0B 1L0\, Canada
CATEGORIES:Communautaire
END:VEVENT
BEGIN:VEVENT
DTSTART;TZID=America/Toronto:20260324T130000
DTEND;TZID=America/Toronto:20260324T150000
DTSTAMP:20260421T064749
CREATED:20260106T204604Z
LAST-MODIFIED:20260303T134248Z
UID:15881-1774357200-1774364400@www.compton.ca
SUMMARY:Atelier d'identification de photos anciennes
DESCRIPTION:
URL:https://www.compton.ca/evenement/atelier-didentification-de-photos-anciennes-2/
LOCATION:Bibliothèque Estelle-Bureau\, 29 chemin de Hatley\, Compton\, Québec\, J0B 1L0\, Canada
CATEGORIES:Communautaire
END:VEVENT
BEGIN:VEVENT
DTSTART;TZID=America/Toronto:20260321T103000
DTEND;TZID=America/Toronto:20260321T113000
DTSTAMP:20260421T064749
CREATED:20260303T133516Z
LAST-MODIFIED:20260303T133516Z
UID:16215-1774089000-1774092600@www.compton.ca
SUMMARY:Heure du conte\, spécial légumes
DESCRIPTION:Dans le cadre du Mois de la nutrition\, nous invitons les familles pour une heure du conte\, spécial légumes!\nJojo LaConteuse vous racontera une histoire bien rigolote\, puis les enfants pourront bricoler. \nMerci de confirmer votre présence en nous contactant au 819 835-0404 ou par courriel à biblio003@reseaubiblioestrie.qc.ca.
URL:https://www.compton.ca/evenement/heure-du-conte-special-legumes/
LOCATION:Bibliothèque Estelle-Bureau\, 29 chemin de Hatley\, Compton\, Québec\, J0B 1L0\, Canada
CATEGORIES:Familles
END:VEVENT
BEGIN:VEVENT
DTSTART;TZID=America/Toronto:20260319T133000
DTEND;TZID=America/Toronto:20260319T153000
DTSTAMP:20260421T064749
CREATED:20260309T134144Z
LAST-MODIFIED:20260311T123440Z
UID:16312-1773927000-1773934200@www.compton.ca
SUMMARY:ATELIER - PRÉVENIR LA FRAUDE\, ÇA DÉBUTE AVEC VOUS
DESCRIPTION:Dans le cadre du mois de la prévention de la fraude\, nous vous invitons à une rencontre pour apprendre à détecter\, éviter et signaler les arnaques. \nJeudi 19 mars 2026 à 13h30\nEndroit : Hôtel de ville de Compton\, 3 chemin de Hatley. \nAtelier animé par un policier de la Sûreté du Québec qui discutera avec vous de : \n\nLa fraude amoureuse ;\nLa fraude grands-parents ;\nLa fraude représentant.
URL:https://www.compton.ca/evenement/atelier-prevenir-la-fraude-ca-debute-avec-vous/
LOCATION:Hôtel de ville\, 3 chemin de Hatley\, Compton\, Estrie\, J0B 1L0\, Canada
CATEGORIES:Communautaire
END:VEVENT
BEGIN:VEVENT
DTSTART;TZID=America/Toronto:20260314T100000
DTEND;TZID=America/Toronto:20260314T130000
DTSTAMP:20260421T064749
CREATED:20260311T180150Z
LAST-MODIFIED:20260311T180150Z
UID:16331-1773482400-1773493200@www.compton.ca
SUMMARY:Matinée jeu de société Magic the Gathering
DESCRIPTION:
URL:https://www.compton.ca/evenement/matinee-jeu-de-societe-magic-the-gathering/
LOCATION:Bibliothèque Estelle-Bureau\, 29 chemin de Hatley\, Compton\, Québec\, J0B 1L0\, Canada
CATEGORIES:Communautaire
END:VEVENT
BEGIN:VEVENT
DTSTART;TZID=America/Toronto:20260310T193000
DTEND;TZID=America/Toronto:20260310T213000
DTSTAMP:20260421T064749
CREATED:20260106T195142Z
LAST-MODIFIED:20260106T195142Z
UID:15878-1773171000-1773178200@www.compton.ca
SUMMARY:Séance du conseil
DESCRIPTION:
URL:https://www.compton.ca/evenement/seance-du-conseil-2/
LOCATION:Hôtel de ville\, 3 chemin de Hatley\, Compton\, Estrie\, J0B 1L0\, Canada
CATEGORIES:Municipal
END:VEVENT
BEGIN:VEVENT
DTSTART;TZID=America/Toronto:20260310T130000
DTEND;TZID=America/Toronto:20260310T163000
DTSTAMP:20260421T064749
CREATED:20260109T131704Z
LAST-MODIFIED:20260212T142101Z
UID:15923-1773147600-1773160200@www.compton.ca
SUMMARY:Bingo de l'Âge d'or de Compton
DESCRIPTION:
URL:https://www.compton.ca/evenement/bingo-de-lage-dor-de-compton-2/
LOCATION:Sous-sol de l’église
CATEGORIES:Communautaire
END:VEVENT
BEGIN:VEVENT
DTSTART;TZID=America/Toronto:20260307T103000
DTEND;TZID=America/Toronto:20260307T120000
DTSTAMP:20260421T064749
CREATED:20260212T142534Z
LAST-MODIFIED:20260304T185249Z
UID:16139-1772879400-1772884800@www.compton.ca
SUMMARY:Heure du conte en pyjama et fontaine de chocolat / Groupe de discussion familles
DESCRIPTION:🦖✨ Conte de la relâche en pyjama à la Bibliothèque Estelle-Bureau ✨🦖 \nParce qu’une relâche\, ça se vit en famille… et en pyjama ! \nJojo la Conteuse viendra raconter une histoire bien rigolote :📖 La soirée pyjama des dinosaures \nEt ce n’est pas tout…🎨 Coloriage🍫 Fondue au chocolat \n👉 Viens en pyjama ! On assume les pantoufles dinos\, les robes de chambre licorne et les cheveux du matin. \n📅 Samedi 7 mars 2026🕥 De 10 h 30 à 12 h📍 29\, chemin Hatley\, Compton \n📞 Confirmez votre présence : 819 835-0404📧 biblio003@reseau biblioestrie.qc.ca \n\n👨‍👩‍👧‍👦 Parce que Compton s’est toujours construit en famille\, nous profiterons de l’activité pour consulter les familles dans le cadre de la mise à jour de la Politique familiale et des aînés. \nPassez nous voir et partagez vos idées. Votre voix compte. \n🎁 Tirage de 2 certificats-cadeaux de 25 $ dans un commerce de Compton de votre choix parmi toutes les personnes présentes.
URL:https://www.compton.ca/evenement/heure-du-conte-en-pyjama-et-fontaine-de-chocolat-groupe-de-discussion-familles/
LOCATION:Bibliothèque Estelle-Bureau\, 29 chemin de Hatley\, Compton\, Québec\, J0B 1L0\, Canada
CATEGORIES:Familles
END:VEVENT
BEGIN:VEVENT
DTSTART;TZID=America/Toronto:20260305T133000
DTEND;TZID=America/Toronto:20260305T153000
DTSTAMP:20260421T064749
CREATED:20260121T212231Z
LAST-MODIFIED:20260218T182642Z
UID:16021-1772717400-1772724600@www.compton.ca
SUMMARY:Café-In multigénérationnel - Conférence sur la Nouvelle-France
DESCRIPTION:☕📜 Café-in multigénérationnel à la Bibliothèque Estelle-Bureau \nLa Bibliothèque Estelle-Bureau invite jeunes et moins jeunes à une présentation captivante sur : La vie en Nouvelle-France \n🛡️ Au programme :✔️ La guerre de la Conquête (1754-1760) : histoire et mode de vie✔️ Description et présentation de divers objets d’époque : uniformes des soldats\, armes et munitions✔️ Collations\, breuvages et tirages sur place \n🎙️ Animation par Richard Savard\, un véritable passionné d’histoire ayant participé à plusieurs reconstitutions historiques à divers endroits. Quand on aime son histoire\, ça s’entend… et ça se voit ! \n📅 Jeudi 5 mars 2026🕜 De 13 h 30 à 15 h 30📍 29\, chemin Hatley\, Compton \n📞 Confirmez votre présence : 819 835-0404📧 biblio003@reseau biblioestrie.qc.ca
URL:https://www.compton.ca/evenement/cafe-in-multigenerationnel-conference-sur-la-nouvelle-france/
LOCATION:Bibliothèque Estelle-Bureau\, 29 chemin de Hatley\, Compton\, Québec\, J0B 1L0\, Canada
CATEGORIES:Culturel
END:VEVENT
BEGIN:VEVENT
DTSTART;TZID=America/Toronto:20260303T130000
DTEND;TZID=America/Toronto:20260303T153000
DTSTAMP:20260421T064749
CREATED:20260212T142406Z
LAST-MODIFIED:20260212T142406Z
UID:16137-1772542800-1772551800@www.compton.ca
SUMMARY:Après-midi jeux de société et chocolat chaud à la bibliothèque
DESCRIPTION:
URL:https://www.compton.ca/evenement/apres-midi-jeux-de-societe-et-chocolat-chaud-a-la-bibliotheque/
LOCATION:Bibliothèque Estelle-Bureau\, 29 chemin de Hatley\, Compton\, Québec\, J0B 1L0\, Canada
CATEGORIES:Familles
END:VEVENT
BEGIN:VEVENT
DTSTART;TZID=America/Toronto:20260227T180000
DTEND;TZID=America/Toronto:20260227T200000
DTSTAMP:20260421T064749
CREATED:20260121T212106Z
LAST-MODIFIED:20260121T212106Z
UID:16019-1772215200-1772222400@www.compton.ca
SUMMARY:Soirée ADOS - Karaoke et Mangas
DESCRIPTION:
URL:https://www.compton.ca/evenement/soiree-ados-karaoke-et-mangas/
LOCATION:Bibliothèque Estelle-Bureau\, 29 chemin de Hatley\, Compton\, Québec\, J0B 1L0\, Canada
CATEGORIES:Communautaire
END:VEVENT
BEGIN:VEVENT
DTSTART;TZID=America/Toronto:20260226T133000
DTEND;TZID=America/Toronto:20260226T153000
DTSTAMP:20260421T064749
CREATED:20260121T211927Z
LAST-MODIFIED:20260212T141842Z
UID:16017-1772112600-1772119800@www.compton.ca
SUMMARY:Café-In : à la rencontre des pompiers de Compton à la caserne
DESCRIPTION:C’est gratuit et ouvert à tous. \nLieu : Caserne de pompiers de Compton
URL:https://www.compton.ca/evenement/cafe-in-partage-ta-passion-et-ta-solidarite/
LOCATION:Caserne\, 3 chemin de Cookshire\, Compton\, Québec\, J0B 1L0\, Canada
CATEGORIES:Communautaire
END:VEVENT
BEGIN:VEVENT
DTSTART;TZID=America/Toronto:20260221T110000
DTEND;TZID=America/Toronto:20260221T190000
DTSTAMP:20260421T064749
CREATED:20241211T204041Z
LAST-MODIFIED:20251112T160641Z
UID:13163-1771671600-1771700400@www.compton.ca
SUMMARY:Plaisirs d'hiver
DESCRIPTION:
URL:https://www.compton.ca/evenement/plaisirs-dhiver/
LOCATION:Récré-O-Parc\, 40 rue du Parc\, Compton\, Québec\, J0B 1L0
CATEGORIES:Activités sportives
END:VEVENT
BEGIN:VEVENT
DTSTART;TZID=America/Toronto:20260219T190000
DTEND;TZID=America/Toronto:20260219T210000
DTSTAMP:20260421T064749
CREATED:20260203T165811Z
LAST-MODIFIED:20260203T203410Z
UID:16076-1771527600-1771534800@www.compton.ca
SUMMARY:Projet solaire communautaire de Compton :  soirée portes ouvertes
DESCRIPTION:La soirée portes ouvertes se tiendra le 19 février\, de 19 h à 21 h\, à la Paroisse Notre-Dame-de-l’Unité. \n\n\n\nAdresse : 6747\, route Louis-S.-St-Laurent\, Compton\, QC J0B 1L0 \n\n\n\n\n\nÀ cette occasion\, les principaux éléments du projet seront présentés\, notamment les avantages attendus\, le processus de développement\, les aspects techniques et environnementaux en cours ou à venir\, ainsi que les prochaines étapes. Des membres de l’équipe de Natural Forces seront présents pour présenter le projet\, expliquer les prochaines étapes et répondre aux questions du public. Toutes les personnes intéressées sont invitées à y participer.
URL:https://www.compton.ca/evenement/projet-solaire-communautaire-de-compton-soiree-portes-ouvertes/
LOCATION:Sous-sol de l’église
CATEGORIES:Municipal
END:VEVENT
BEGIN:VEVENT
DTSTART;TZID=America/Toronto:20260214T103000
DTEND;TZID=America/Toronto:20260214T120000
DTSTAMP:20260421T064749
CREATED:20241211T204902Z
LAST-MODIFIED:20260106T204812Z
UID:13171-1771065000-1771070400@www.compton.ca
SUMMARY:Heure du conte St-Valentin
DESCRIPTION:
URL:https://www.compton.ca/evenement/heure-du-conte-st-valentin/
LOCATION:Bibliothèque Estelle-Bureau\, 29 chemin de Hatley\, Compton\, Québec\, J0B 1L0\, Canada
CATEGORIES:Familles
END:VEVENT
BEGIN:VEVENT
DTSTART;TZID=America/Toronto:20260210T130000
DTEND;TZID=America/Toronto:20260210T153000
DTSTAMP:20260421T064749
CREATED:20250114T135947Z
LAST-MODIFIED:20260203T170137Z
UID:13359-1770728400-1770737400@www.compton.ca
SUMMARY:Les mardis douillets
DESCRIPTION:Venez jaser\, lire ou faire un casse-tête tout en dégustant un bon café ou un thé gratuitement.
URL:https://www.compton.ca/evenement/les-mardis-douillets/
LOCATION:Bibliothèque Estelle-Bureau\, 29 chemin de Hatley\, Compton\, Québec\, J0B 1L0\, Canada
CATEGORIES:Culturel
END:VEVENT
BEGIN:VEVENT
DTSTART;TZID=America/Toronto:20260130T180000
DTEND;TZID=America/Toronto:20260130T200000
DTSTAMP:20260421T064749
CREATED:20250403T130029Z
LAST-MODIFIED:20260106T204702Z
UID:14006-1769796000-1769803200@www.compton.ca
SUMMARY:Soirée ados MAGIC THE GATHERING
DESCRIPTION:
URL:https://www.compton.ca/evenement/soiree-jeux-de-societe-magic-the-gathering/
LOCATION:Bibliothèque Estelle-Bureau\, 29 chemin de Hatley\, Compton\, Québec\, J0B 1L0\, Canada
CATEGORIES:Communautaire
END:VEVENT
BEGIN:VEVENT
DTSTART;TZID=America/Toronto:20260129T190000
DTEND;TZID=America/Toronto:20260129T210000
DTSTAMP:20260421T064749
CREATED:20260105T195810Z
LAST-MODIFIED:20260105T195847Z
UID:15859-1769713200-1769720400@www.compton.ca
SUMMARY:Conférence - Ponts couverts et chemins anciens de la Société d'histoire de Compton
DESCRIPTION:La Société d’histoire de Compton vous invite à la conférence\nPonts couverts et chemins anciens \nLa Société d’histoire de Compton poursuit sa programmation 2025-2026 par une conférence intitulée Ponts couverts et chemins anciens. Le canton de Compton étant traversé par quatre rivières\, le développement du réseau routier n’a pu se faire sans ériger plusieurs ponts. Ces derniers\, menacés par les embâcles\, les crues printanières ou par des pluies torrentielles qui ont presque tout emporté\, ont chacun leur histoire. \nEn visionnant d’anciennes cartes du canton de Compton\, nous pourrons comprendre comment le réseau routier s’est développé. Mais que reste-t-il\, de nos jours\, de ces bouts de chemin qui ont été abandonnés? Quant aux ponts de bois\, de fer ou de béton\, couverts ou non\, l’abondante documentation photographique de Bibliothèque et Archives nationales du Québec nous permet un regard émouvant sur ces vieilles structures pour la plupart disparues. \nJ’entends donc partager avec vous les résultats des recherches sur les ponts de Compton\net quelques belles trouvailles à propos des chemins anciens. La richesse de ce patrimoine\ncomptonois ne fait pas de doute. \nVous êtes attendus à :\nla Salle du conseil de l’Hôtel de ville\n3\, chemin de Hatley à Compton\nle jeudi 29 janvier 2026 à 19 heures. \nL’admission étant gratuite pour les membres de la Société d’histoire de Compton; une contribution de 5 $ est demandée aux personnes qui n’en sont pas. Il est préférable\, pour faciliter la logistique de la conférence\, de nous signifier votre intention de vous y présenter en communiquant par courriel à : societehistoirecompton@gmail.com \nJeanmarc Lachance\, président
URL:https://www.compton.ca/evenement/conference-ponts-couverts-et-chemins-anciens-de-la-societe-dhistoire-de-compton/
LOCATION:Hôtel de ville\, 3 chemin de Hatley\, Compton\, Estrie\, J0B 1L0\, Canada
CATEGORIES:Culturel
END:VEVENT
END:VCALENDAR