BEGIN:VCALENDAR
VERSION:2.0
PRODID:-//Municipalité de Compton - ECPv6.15.14//NONSGML v1.0//EN
CALSCALE:GREGORIAN
METHOD:PUBLISH
X-ORIGINAL-URL:https://www.compton.ca
X-WR-CALDESC:évènements pour Municipalité de Compton
REFRESH-INTERVAL;VALUE=DURATION:PT1H
X-Robots-Tag:noindex
X-PUBLISHED-TTL:PT1H
BEGIN:VTIMEZONE
TZID:America/Toronto
BEGIN:DAYLIGHT
TZOFFSETFROM:-0500
TZOFFSETTO:-0400
TZNAME:EDT
DTSTART:20250309T070000
END:DAYLIGHT
BEGIN:STANDARD
TZOFFSETFROM:-0400
TZOFFSETTO:-0500
TZNAME:EST
DTSTART:20251102T060000
END:STANDARD
BEGIN:DAYLIGHT
TZOFFSETFROM:-0500
TZOFFSETTO:-0400
TZNAME:EDT
DTSTART:20260308T070000
END:DAYLIGHT
BEGIN:STANDARD
TZOFFSETFROM:-0400
TZOFFSETTO:-0500
TZNAME:EST
DTSTART:20261101T060000
END:STANDARD
BEGIN:DAYLIGHT
TZOFFSETFROM:-0500
TZOFFSETTO:-0400
TZNAME:EDT
DTSTART:20270314T070000
END:DAYLIGHT
BEGIN:STANDARD
TZOFFSETFROM:-0400
TZOFFSETTO:-0500
TZNAME:EST
DTSTART:20271107T060000
END:STANDARD
END:VTIMEZONE
BEGIN:VEVENT
DTSTART;TZID=America/Toronto:20261011T100000
DTEND;TZID=America/Toronto:20261011T170000
DTSTAMP:20260419T180508
CREATED:20240916T152254Z
LAST-MODIFIED:20260106T195729Z
UID:12497-1791712800-1791738000@www.compton.ca
SUMMARY:Virée gourmande Les Comptonales
DESCRIPTION:La Virée gourmande des Comptonales est un circuit touristique ponctué par plusieurs destinations agrotouristiques de la région de Compton. À chacune des destinations\, un rassemblement de producteurs des Cantons-de-l’Est vous attendent afin de vous faire déguster leurs savoureux produits. Artisans\, musiciens et activités pour les enfants seront également au rendez-vous pour vous divertir. Faites la virée à bord de nos navettes gratuites afin d’y faire de fabuleuses découvertes tout au long de cette route gourmande unique.
URL:https://www.compton.ca/evenement/viree-gourmande-les-comptonales-2/
CATEGORIES:Touristique
END:VEVENT
END:VCALENDAR