BEGIN:VCALENDAR
VERSION:2.0
PRODID:-//Municipalité de Compton - ECPv6.15.14//NONSGML v1.0//EN
CALSCALE:GREGORIAN
METHOD:PUBLISH
X-ORIGINAL-URL:https://www.compton.ca
X-WR-CALDESC:évènements pour Municipalité de Compton
REFRESH-INTERVAL;VALUE=DURATION:PT1H
X-Robots-Tag:noindex
X-PUBLISHED-TTL:PT1H
BEGIN:VTIMEZONE
TZID:America/Toronto
BEGIN:DAYLIGHT
TZOFFSETFROM:-0500
TZOFFSETTO:-0400
TZNAME:EDT
DTSTART:20250309T070000
END:DAYLIGHT
BEGIN:STANDARD
TZOFFSETFROM:-0400
TZOFFSETTO:-0500
TZNAME:EST
DTSTART:20251102T060000
END:STANDARD
BEGIN:DAYLIGHT
TZOFFSETFROM:-0500
TZOFFSETTO:-0400
TZNAME:EDT
DTSTART:20260308T070000
END:DAYLIGHT
BEGIN:STANDARD
TZOFFSETFROM:-0400
TZOFFSETTO:-0500
TZNAME:EST
DTSTART:20261101T060000
END:STANDARD
BEGIN:DAYLIGHT
TZOFFSETFROM:-0500
TZOFFSETTO:-0400
TZNAME:EDT
DTSTART:20270314T070000
END:DAYLIGHT
BEGIN:STANDARD
TZOFFSETFROM:-0400
TZOFFSETTO:-0500
TZNAME:EST
DTSTART:20271107T060000
END:STANDARD
END:VTIMEZONE
BEGIN:VEVENT
DTSTART;TZID=America/Toronto:20260414T193000
DTEND;TZID=America/Toronto:20260414T213000
DTSTAMP:20260419T155155
CREATED:20260106T195022Z
LAST-MODIFIED:20260212T142020Z
UID:15876-1776195000-1776202200@www.compton.ca
SUMMARY:Séance du conseil
DESCRIPTION:
URL:https://www.compton.ca/evenement/seance-du-conseil/
LOCATION:Hôtel de ville\, 3 chemin de Hatley\, Compton\, Estrie\, J0B 1L0\, Canada
CATEGORIES:Municipal
END:VEVENT
END:VCALENDAR