BEGIN:VCALENDAR
VERSION:2.0
PRODID:-//Municipalité de Compton - ECPv6.15.14//NONSGML v1.0//EN
CALSCALE:GREGORIAN
METHOD:PUBLISH
X-ORIGINAL-URL:https://www.compton.ca
X-WR-CALDESC:évènements pour Municipalité de Compton
REFRESH-INTERVAL;VALUE=DURATION:PT1H
X-Robots-Tag:noindex
X-PUBLISHED-TTL:PT1H
BEGIN:VTIMEZONE
TZID:America/Toronto
BEGIN:DAYLIGHT
TZOFFSETFROM:-0500
TZOFFSETTO:-0400
TZNAME:EDT
DTSTART:20250309T070000
END:DAYLIGHT
BEGIN:STANDARD
TZOFFSETFROM:-0400
TZOFFSETTO:-0500
TZNAME:EST
DTSTART:20251102T060000
END:STANDARD
BEGIN:DAYLIGHT
TZOFFSETFROM:-0500
TZOFFSETTO:-0400
TZNAME:EDT
DTSTART:20260308T070000
END:DAYLIGHT
BEGIN:STANDARD
TZOFFSETFROM:-0400
TZOFFSETTO:-0500
TZNAME:EST
DTSTART:20261101T060000
END:STANDARD
BEGIN:DAYLIGHT
TZOFFSETFROM:-0500
TZOFFSETTO:-0400
TZNAME:EDT
DTSTART:20270314T070000
END:DAYLIGHT
BEGIN:STANDARD
TZOFFSETFROM:-0400
TZOFFSETTO:-0500
TZNAME:EST
DTSTART:20271107T060000
END:STANDARD
END:VTIMEZONE
BEGIN:VEVENT
DTSTART;TZID=America/Toronto:20260321T103000
DTEND;TZID=America/Toronto:20260321T113000
DTSTAMP:20260419T151853
CREATED:20260303T133516Z
LAST-MODIFIED:20260303T133516Z
UID:16215-1774089000-1774092600@www.compton.ca
SUMMARY:Heure du conte\, spécial légumes
DESCRIPTION:Dans le cadre du Mois de la nutrition\, nous invitons les familles pour une heure du conte\, spécial légumes!\nJojo LaConteuse vous racontera une histoire bien rigolote\, puis les enfants pourront bricoler. \nMerci de confirmer votre présence en nous contactant au 819 835-0404 ou par courriel à biblio003@reseaubiblioestrie.qc.ca.
URL:https://www.compton.ca/evenement/heure-du-conte-special-legumes/
LOCATION:Bibliothèque Estelle-Bureau\, 29 chemin de Hatley\, Compton\, Québec\, J0B 1L0\, Canada
CATEGORIES:Familles
END:VEVENT
END:VCALENDAR