BEGIN:VCALENDAR
VERSION:2.0
PRODID:-//Municipalité de Compton - ECPv6.15.14//NONSGML v1.0//EN
CALSCALE:GREGORIAN
METHOD:PUBLISH
X-ORIGINAL-URL:https://www.compton.ca
X-WR-CALDESC:évènements pour Municipalité de Compton
REFRESH-INTERVAL;VALUE=DURATION:PT1H
X-Robots-Tag:noindex
X-PUBLISHED-TTL:PT1H
BEGIN:VTIMEZONE
TZID:America/Toronto
BEGIN:DAYLIGHT
TZOFFSETFROM:-0500
TZOFFSETTO:-0400
TZNAME:EDT
DTSTART:20250309T070000
END:DAYLIGHT
BEGIN:STANDARD
TZOFFSETFROM:-0400
TZOFFSETTO:-0500
TZNAME:EST
DTSTART:20251102T060000
END:STANDARD
BEGIN:DAYLIGHT
TZOFFSETFROM:-0500
TZOFFSETTO:-0400
TZNAME:EDT
DTSTART:20260308T070000
END:DAYLIGHT
BEGIN:STANDARD
TZOFFSETFROM:-0400
TZOFFSETTO:-0500
TZNAME:EST
DTSTART:20261101T060000
END:STANDARD
BEGIN:DAYLIGHT
TZOFFSETFROM:-0500
TZOFFSETTO:-0400
TZNAME:EDT
DTSTART:20270314T070000
END:DAYLIGHT
BEGIN:STANDARD
TZOFFSETFROM:-0400
TZOFFSETTO:-0500
TZNAME:EST
DTSTART:20271107T060000
END:STANDARD
END:VTIMEZONE
BEGIN:VEVENT
DTSTART;TZID=America/Toronto:20260327T180000
DTEND;TZID=America/Toronto:20260327T200000
DTSTAMP:20260419T233720
CREATED:20260303T133803Z
LAST-MODIFIED:20260303T133803Z
UID:16217-1774634400-1774641600@www.compton.ca
SUMMARY:Soirée Zombicide à la bibliothèque
DESCRIPTION:Activité pour les jeunes de 12 ans et plus.\nViens découvrir ce jeu coopératif où il faut survivre contre une horde de zombies!\nLes places sont limitées\, alors confirmes ta présence en nous contactant au 819 835-0404 ou par courriel à biblio003@reseaubiblioestrie.qc.ca
URL:https://www.compton.ca/evenement/soiree-zombicide-a-la-bibliotheque/
LOCATION:Bibliothèque Estelle-Bureau\, 29 chemin de Hatley\, Compton\, Québec\, J0B 1L0\, Canada
CATEGORIES:Culturel
END:VEVENT
END:VCALENDAR