BEGIN:VCALENDAR
VERSION:2.0
PRODID:-//Municipalité de Compton - ECPv6.15.14//NONSGML v1.0//EN
CALSCALE:GREGORIAN
METHOD:PUBLISH
X-ORIGINAL-URL:https://www.compton.ca
X-WR-CALDESC:évènements pour Municipalité de Compton
REFRESH-INTERVAL;VALUE=DURATION:PT1H
X-Robots-Tag:noindex
X-PUBLISHED-TTL:PT1H
BEGIN:VTIMEZONE
TZID:America/Toronto
BEGIN:DAYLIGHT
TZOFFSETFROM:-0500
TZOFFSETTO:-0400
TZNAME:EDT
DTSTART:20250309T070000
END:DAYLIGHT
BEGIN:STANDARD
TZOFFSETFROM:-0400
TZOFFSETTO:-0500
TZNAME:EST
DTSTART:20251102T060000
END:STANDARD
BEGIN:DAYLIGHT
TZOFFSETFROM:-0500
TZOFFSETTO:-0400
TZNAME:EDT
DTSTART:20260308T070000
END:DAYLIGHT
BEGIN:STANDARD
TZOFFSETFROM:-0400
TZOFFSETTO:-0500
TZNAME:EST
DTSTART:20261101T060000
END:STANDARD
BEGIN:DAYLIGHT
TZOFFSETFROM:-0500
TZOFFSETTO:-0400
TZNAME:EDT
DTSTART:20270314T070000
END:DAYLIGHT
BEGIN:STANDARD
TZOFFSETFROM:-0400
TZOFFSETTO:-0500
TZNAME:EST
DTSTART:20271107T060000
END:STANDARD
END:VTIMEZONE
BEGIN:VEVENT
DTSTART;TZID=America/Toronto:20260507T130000
DTEND;TZID=America/Toronto:20260507T190000
DTSTAMP:20260419T230104
CREATED:20260320T143558Z
LAST-MODIFIED:20260320T143558Z
UID:16390-1778158800-1778180400@www.compton.ca
SUMMARY:L'Estrie met ses culottes - Collecte de vêtements
DESCRIPTION:À l’occasion de sa 30e édition\, la grande collecte de vêtements L’Estrie met ses culottes est de retour ! \nProfitez du ménage de printemps pour faire le tri dans vos garde-robes et donner une seconde vie à vos vêtements\, accessoires et petits articles de sport encore en bon état. Les dons seront recueillis au Comptoir Familial de Compton les 6 et 7 mai prochains durant les heures d’ouverture. \nPortée par Récupex\, cette initiative a permis d’amasser plus d’un million de livres de vêtements en Estrie au cours des 30 dernières années\, grâce à la générosité de plus de 50 000 citoyens. \nCette année\, en plus de donner\, la population est invitée à découvrir les organismes participants et à encourager leurs friperies locales. \nPlus que jamais\, pour soutenir la communauté\, préserver l’environnement et contribuer à la mission des organismes d’ici\, chaque geste compte. Mobilisons-nous et participons ensemble à cette action collective aux retombées significatives ! \nPour connaître tous les détails de la campagne et découvrir les autres points de collecte en Estrie\, visitez le recupex.ca.
URL:https://www.compton.ca/evenement/lestrie-met-ses-culottes-collecte-de-vetements-2/
CATEGORIES:Communautaire
END:VEVENT
BEGIN:VEVENT
DTSTART;TZID=America/Toronto:20260507T133000
DTEND;TZID=America/Toronto:20260507T150000
DTSTAMP:20260419T230104
CREATED:20260303T134755Z
LAST-MODIFIED:20260303T134755Z
UID:16225-1778160600-1778166000@www.compton.ca
SUMMARY:Atelier de jardinage
DESCRIPTION:
URL:https://www.compton.ca/evenement/atelier-de-jardinage/
LOCATION:Bibliothèque Estelle-Bureau\, 29 chemin de Hatley\, Compton\, Québec\, J0B 1L0\, Canada
CATEGORIES:Communautaire
END:VEVENT
END:VCALENDAR