BEGIN:VCALENDAR
VERSION:2.0
PRODID:-//Municipalité de Compton - ECPv6.15.14//NONSGML v1.0//EN
CALSCALE:GREGORIAN
METHOD:PUBLISH
X-WR-CALNAME:Municipalité de Compton
X-ORIGINAL-URL:https://www.compton.ca
X-WR-CALDESC:évènements pour Municipalité de Compton
REFRESH-INTERVAL;VALUE=DURATION:PT1H
X-Robots-Tag:noindex
X-PUBLISHED-TTL:PT1H
BEGIN:VTIMEZONE
TZID:America/Toronto
BEGIN:DAYLIGHT
TZOFFSETFROM:-0500
TZOFFSETTO:-0400
TZNAME:EDT
DTSTART:20250309T070000
END:DAYLIGHT
BEGIN:STANDARD
TZOFFSETFROM:-0400
TZOFFSETTO:-0500
TZNAME:EST
DTSTART:20251102T060000
END:STANDARD
BEGIN:DAYLIGHT
TZOFFSETFROM:-0500
TZOFFSETTO:-0400
TZNAME:EDT
DTSTART:20260308T070000
END:DAYLIGHT
BEGIN:STANDARD
TZOFFSETFROM:-0400
TZOFFSETTO:-0500
TZNAME:EST
DTSTART:20261101T060000
END:STANDARD
BEGIN:DAYLIGHT
TZOFFSETFROM:-0500
TZOFFSETTO:-0400
TZNAME:EDT
DTSTART:20270314T070000
END:DAYLIGHT
BEGIN:STANDARD
TZOFFSETFROM:-0400
TZOFFSETTO:-0500
TZNAME:EST
DTSTART:20271107T060000
END:STANDARD
END:VTIMEZONE
BEGIN:VEVENT
DTSTART;TZID=America/Toronto:20260702T160000
DTEND;TZID=America/Toronto:20260702T190000
DTSTAMP:20260420T004516
CREATED:20260303T140036Z
LAST-MODIFIED:20260303T140312Z
UID:16239-1783008000-1783018800@www.compton.ca
SUMMARY:Marché de soir de Compton
DESCRIPTION:
URL:https://www.compton.ca/evenement/marche-public-3/
LOCATION:Parc des Lions\, Compton\, QC\, J0B 1L0\, Canada
CATEGORIES:Communautaire
END:VEVENT
BEGIN:VEVENT
DTSTART;TZID=America/Toronto:20260703T160000
DTEND;TZID=America/Toronto:20260703T200000
DTSTAMP:20260420T004516
CREATED:20260303T142923Z
LAST-MODIFIED:20260303T142923Z
UID:16274-1783094400-1783108800@www.compton.ca
SUMMARY:Grande Fête MANGA à la bibliothèque
DESCRIPTION:
URL:https://www.compton.ca/evenement/grande-fete-manga-a-la-bibliotheque/
LOCATION:Bibliothèque Estelle-Bureau\, 29 chemin de Hatley\, Compton\, Québec\, J0B 1L0\, Canada
CATEGORIES:Communautaire
END:VEVENT
BEGIN:VEVENT
DTSTART;TZID=America/Toronto:20260709T160000
DTEND;TZID=America/Toronto:20260709T190000
DTSTAMP:20260420T004516
CREATED:20260303T140118Z
LAST-MODIFIED:20260303T140256Z
UID:16241-1783612800-1783623600@www.compton.ca
SUMMARY:Marché de soir de Compton
DESCRIPTION:
URL:https://www.compton.ca/evenement/marche-public-4/
LOCATION:Parc des Lions\, Compton\, QC\, J0B 1L0\, Canada
CATEGORIES:Communautaire
END:VEVENT
BEGIN:VEVENT
DTSTART;TZID=America/Toronto:20260716T160000
DTEND;TZID=America/Toronto:20260716T190000
DTSTAMP:20260420T004516
CREATED:20260303T140225Z
LAST-MODIFIED:20260303T140241Z
UID:16243-1784217600-1784228400@www.compton.ca
SUMMARY:Marché de soir de Compton
DESCRIPTION:
URL:https://www.compton.ca/evenement/marche-public-5/
LOCATION:Parc des Lions\, Compton\, QC\, J0B 1L0\, Canada
CATEGORIES:Communautaire
END:VEVENT
BEGIN:VEVENT
DTSTART;TZID=America/Toronto:20260723T160000
DTEND;TZID=America/Toronto:20260723T190000
DTSTAMP:20260420T004516
CREATED:20260303T140442Z
LAST-MODIFIED:20260303T140442Z
UID:16250-1784822400-1784833200@www.compton.ca
SUMMARY:Marché de soir de Compton
DESCRIPTION:
URL:https://www.compton.ca/evenement/marche-de-soir-de-compton-8/
LOCATION:Parc des Lions\, Compton\, QC\, J0B 1L0\, Canada
CATEGORIES:Communautaire
END:VEVENT
BEGIN:VEVENT
DTSTART;TZID=America/Toronto:20260730T160000
DTEND;TZID=America/Toronto:20260730T190000
DTSTAMP:20260420T004516
CREATED:20260303T140514Z
LAST-MODIFIED:20260303T140514Z
UID:16252-1785427200-1785438000@www.compton.ca
SUMMARY:Marché de soir de Compton
DESCRIPTION:
URL:https://www.compton.ca/evenement/marche-de-soir-de-compton-9/
LOCATION:Parc des Lions\, Compton\, QC\, J0B 1L0\, Canada
CATEGORIES:Communautaire
END:VEVENT
END:VCALENDAR