BEGIN:VCALENDAR
VERSION:2.0
PRODID:-//Municipalité de Compton - ECPv6.15.14//NONSGML v1.0//EN
CALSCALE:GREGORIAN
METHOD:PUBLISH
X-ORIGINAL-URL:https://www.compton.ca
X-WR-CALDESC:évènements pour Municipalité de Compton
REFRESH-INTERVAL;VALUE=DURATION:PT1H
X-Robots-Tag:noindex
X-PUBLISHED-TTL:PT1H
BEGIN:VTIMEZONE
TZID:America/Toronto
BEGIN:DAYLIGHT
TZOFFSETFROM:-0500
TZOFFSETTO:-0400
TZNAME:EDT
DTSTART:20240310T070000
END:DAYLIGHT
BEGIN:STANDARD
TZOFFSETFROM:-0400
TZOFFSETTO:-0500
TZNAME:EST
DTSTART:20241103T060000
END:STANDARD
BEGIN:DAYLIGHT
TZOFFSETFROM:-0500
TZOFFSETTO:-0400
TZNAME:EDT
DTSTART:20250309T070000
END:DAYLIGHT
BEGIN:STANDARD
TZOFFSETFROM:-0400
TZOFFSETTO:-0500
TZNAME:EST
DTSTART:20251102T060000
END:STANDARD
BEGIN:DAYLIGHT
TZOFFSETFROM:-0500
TZOFFSETTO:-0400
TZNAME:EDT
DTSTART:20260308T070000
END:DAYLIGHT
BEGIN:STANDARD
TZOFFSETFROM:-0400
TZOFFSETTO:-0500
TZNAME:EST
DTSTART:20261101T060000
END:STANDARD
END:VTIMEZONE
BEGIN:VEVENT
DTSTART;TZID=America/Toronto:20250814T160000
DTEND;TZID=America/Toronto:20250814T190000
DTSTAMP:20260420T122948
CREATED:20250528T131730Z
LAST-MODIFIED:20250804T192748Z
UID:14366-1755187200-1755198000@www.compton.ca
SUMMARY:Marché de soir de Compton
DESCRIPTION:
URL:https://www.compton.ca/evenement/marche-de-soir-de-compton-3/
LOCATION:Parc des Lions\, Compton\, QC\, J0B 1L0\, Canada
CATEGORIES:Touristique
END:VEVENT
BEGIN:VEVENT
DTSTART;TZID=America/Toronto:20250814T183000
DTEND;TZID=America/Toronto:20250814T203000
DTSTAMP:20260420T122948
CREATED:20250724T154605Z
LAST-MODIFIED:20250724T154605Z
UID:14687-1755196200-1755203400@www.compton.ca
SUMMARY:Jardin à visiter au 655 chemin Vaillancourt
DESCRIPTION:Visites de jardins de 18 h 30 à 20 h 30\, gratuit et ouvert à tous. \nVous êtes invités à porter des chaussures confortables. L’activité aura lieu beau temps-mauvais temps. \nCes visites sont organisées par le Comité d’embellissement de la Municipalité de Compton.
URL:https://www.compton.ca/evenement/jardin-a-visiter-au-655-chemin-vaillancourt/
LOCATION:Estrie
CATEGORIES:Communautaire
END:VEVENT
END:VCALENDAR