BEGIN:VCALENDAR
VERSION:2.0
PRODID:-//Municipalité de Compton - ECPv6.15.14//NONSGML v1.0//EN
CALSCALE:GREGORIAN
METHOD:PUBLISH
X-ORIGINAL-URL:https://www.compton.ca
X-WR-CALDESC:évènements pour Municipalité de Compton
REFRESH-INTERVAL;VALUE=DURATION:PT1H
X-Robots-Tag:noindex
X-PUBLISHED-TTL:PT1H
BEGIN:VTIMEZONE
TZID:America/Toronto
BEGIN:DAYLIGHT
TZOFFSETFROM:-0500
TZOFFSETTO:-0400
TZNAME:EDT
DTSTART:20240310T070000
END:DAYLIGHT
BEGIN:STANDARD
TZOFFSETFROM:-0400
TZOFFSETTO:-0500
TZNAME:EST
DTSTART:20241103T060000
END:STANDARD
BEGIN:DAYLIGHT
TZOFFSETFROM:-0500
TZOFFSETTO:-0400
TZNAME:EDT
DTSTART:20250309T070000
END:DAYLIGHT
BEGIN:STANDARD
TZOFFSETFROM:-0400
TZOFFSETTO:-0500
TZNAME:EST
DTSTART:20251102T060000
END:STANDARD
BEGIN:DAYLIGHT
TZOFFSETFROM:-0500
TZOFFSETTO:-0400
TZNAME:EDT
DTSTART:20260308T070000
END:DAYLIGHT
BEGIN:STANDARD
TZOFFSETFROM:-0400
TZOFFSETTO:-0500
TZNAME:EST
DTSTART:20261101T060000
END:STANDARD
END:VTIMEZONE
BEGIN:VEVENT
DTSTART;TZID=America/Toronto:20250804T080000
DTEND;TZID=America/Toronto:20250811T170000
DTSTAMP:20260420T122755
CREATED:20250724T135236Z
LAST-MODIFIED:20250724T135236Z
UID:14681-1754294400-1754931600@www.compton.ca
SUMMARY:Vacances bibliothèque
DESCRIPTION:
URL:https://www.compton.ca/evenement/vacances-bibliotheque/
LOCATION:Bibliothèque Estelle-Bureau\, 29 chemin de Hatley\, Compton\, Québec\, J0B 1L0\, Canada
CATEGORIES:Culturel
END:VEVENT
BEGIN:VEVENT
DTSTART;TZID=America/Toronto:20250807T160000
DTEND;TZID=America/Toronto:20250807T190000
DTSTAMP:20260420T122755
CREATED:20250528T132149Z
LAST-MODIFIED:20250804T192703Z
UID:14374-1754582400-1754593200@www.compton.ca
SUMMARY:Marché de soir de Compton
DESCRIPTION:
URL:https://www.compton.ca/evenement/marche-de-soir-de-compton-7/
LOCATION:Parc des Lions\, Compton\, QC\, J0B 1L0\, Canada
CATEGORIES:Touristique
END:VEVENT
BEGIN:VEVENT
DTSTART;TZID=America/Toronto:20250807T183000
DTEND;TZID=America/Toronto:20250807T193000
DTSTAMP:20260420T122755
CREATED:20250528T132647Z
LAST-MODIFIED:20250528T132647Z
UID:14382-1754591400-1754595000@www.compton.ca
SUMMARY:Tournée estivale du Comité de sécurité routière et piétonnière
DESCRIPTION:
URL:https://www.compton.ca/evenement/tournee-estivale-du-comite-de-securite-routiere-et-pietonniere-2/
LOCATION:Estrie
CATEGORIES:Municipal
END:VEVENT
BEGIN:VEVENT
DTSTART;TZID=America/Toronto:20250807T183000
DTEND;TZID=America/Toronto:20250807T203000
DTSTAMP:20260420T122755
CREATED:20250724T154518Z
LAST-MODIFIED:20250724T154744Z
UID:14685-1754591400-1754598600@www.compton.ca
SUMMARY:Jardin à visiter au 300\, chemin Beaudoin
DESCRIPTION:Visites de jardins de 18 h 30 à 20 h 30\, gratuit et ouvert à tous. \nVous êtes invités à porter des chaussures confortables. L’activité aura lieu beau temps-mauvais temps. \nCes visites sont organisées par le Comité d’embellissement de la Municipalité de Compton.
URL:https://www.compton.ca/evenement/jardins-a-visiter-au-300-chemin-beaudoin/
LOCATION:Estrie
CATEGORIES:Communautaire
END:VEVENT
END:VCALENDAR