BEGIN:VCALENDAR
VERSION:2.0
PRODID:-//Municipalité de Compton - ECPv6.15.14//NONSGML v1.0//EN
CALSCALE:GREGORIAN
METHOD:PUBLISH
X-ORIGINAL-URL:https://www.compton.ca
X-WR-CALDESC:évènements pour Municipalité de Compton
REFRESH-INTERVAL;VALUE=DURATION:PT1H
X-Robots-Tag:noindex
X-PUBLISHED-TTL:PT1H
BEGIN:VTIMEZONE
TZID:America/Toronto
BEGIN:DAYLIGHT
TZOFFSETFROM:-0500
TZOFFSETTO:-0400
TZNAME:EDT
DTSTART:20240310T070000
END:DAYLIGHT
BEGIN:STANDARD
TZOFFSETFROM:-0400
TZOFFSETTO:-0500
TZNAME:EST
DTSTART:20241103T060000
END:STANDARD
BEGIN:DAYLIGHT
TZOFFSETFROM:-0500
TZOFFSETTO:-0400
TZNAME:EDT
DTSTART:20250309T070000
END:DAYLIGHT
BEGIN:STANDARD
TZOFFSETFROM:-0400
TZOFFSETTO:-0500
TZNAME:EST
DTSTART:20251102T060000
END:STANDARD
BEGIN:DAYLIGHT
TZOFFSETFROM:-0500
TZOFFSETTO:-0400
TZNAME:EDT
DTSTART:20260308T070000
END:DAYLIGHT
BEGIN:STANDARD
TZOFFSETFROM:-0400
TZOFFSETTO:-0500
TZNAME:EST
DTSTART:20261101T060000
END:STANDARD
END:VTIMEZONE
BEGIN:VEVENT
DTSTART;TZID=America/Toronto:20250729T130000
DTEND;TZID=America/Toronto:20250729T153000
DTSTAMP:20260420T104119
CREATED:20250724T133740Z
LAST-MODIFIED:20250724T133740Z
UID:14677-1753794000-1753803000@www.compton.ca
SUMMARY:Jeux de société à découvrir à la bibliothèque
DESCRIPTION:Tous les mardis après-midi du mois de juillet\, grands-parents\, petits-enfants\, parents et amis sont invités à venir jouer\, jaser et partager de bons moments. \nDes jeux classiques aux nouveautés\, il y en aura pour tous les goûts. \nNous vous offrons même café et rafraîchissement! \n\nLe 29 juillet: Jeux de société à découvrir!\n\nDe 13h à 15h30 au 29 chemin Hatley à Compton. \nNous avons bien hâte de vous accueillir cet été dans notre espace frais et confortable. C’est un rendez-vous!
URL:https://www.compton.ca/evenement/jeux-de-societe-a-decouvrir-a-la-bibliotheque/
LOCATION:Bibliothèque Estelle-Bureau\, 29 chemin de Hatley\, Compton\, Québec\, J0B 1L0\, Canada
CATEGORIES:Familles
END:VEVENT
END:VCALENDAR