BEGIN:VCALENDAR
VERSION:2.0
PRODID:-//Municipalité de Compton - ECPv6.15.14//NONSGML v1.0//EN
CALSCALE:GREGORIAN
METHOD:PUBLISH
X-ORIGINAL-URL:https://www.compton.ca
X-WR-CALDESC:évènements pour Municipalité de Compton
REFRESH-INTERVAL;VALUE=DURATION:PT1H
X-Robots-Tag:noindex
X-PUBLISHED-TTL:PT1H
BEGIN:VTIMEZONE
TZID:America/Toronto
BEGIN:DAYLIGHT
TZOFFSETFROM:-0500
TZOFFSETTO:-0400
TZNAME:EDT
DTSTART:20240310T070000
END:DAYLIGHT
BEGIN:STANDARD
TZOFFSETFROM:-0400
TZOFFSETTO:-0500
TZNAME:EST
DTSTART:20241103T060000
END:STANDARD
BEGIN:DAYLIGHT
TZOFFSETFROM:-0500
TZOFFSETTO:-0400
TZNAME:EDT
DTSTART:20250309T070000
END:DAYLIGHT
BEGIN:STANDARD
TZOFFSETFROM:-0400
TZOFFSETTO:-0500
TZNAME:EST
DTSTART:20251102T060000
END:STANDARD
BEGIN:DAYLIGHT
TZOFFSETFROM:-0500
TZOFFSETTO:-0400
TZNAME:EDT
DTSTART:20260308T070000
END:DAYLIGHT
BEGIN:STANDARD
TZOFFSETFROM:-0400
TZOFFSETTO:-0500
TZNAME:EST
DTSTART:20261101T060000
END:STANDARD
END:VTIMEZONE
BEGIN:VEVENT
DTSTART;TZID=America/Toronto:20250614T080000
DTEND;TZID=America/Toronto:20250614T170000
DTSTAMP:20260420T011124
CREATED:20250605T154121Z
LAST-MODIFIED:20250605T154121Z
UID:14446-1749888000-1749920400@www.compton.ca
SUMMARY:RÉSERVATION - Gazébo Récré-O-Parc (Fête)
DESCRIPTION:
URL:https://www.compton.ca/evenement/reservation-gazebo-recre-o-parc-fete/
LOCATION:Récré-O-Parc\, 40 rue du Parc\, Compton\, Québec\, J0B 1L0
CATEGORIES:Réservation
END:VEVENT
BEGIN:VEVENT
DTSTART;TZID=America/Toronto:20250614T133000
DTEND;TZID=America/Toronto:20250614T153000
DTSTAMP:20260420T011124
CREATED:20250605T154300Z
LAST-MODIFIED:20250605T155533Z
UID:14448-1749907800-1749915000@www.compton.ca
SUMMARY:Réservation - terrain de soccer Récré-O-Parc
DESCRIPTION:
URL:https://www.compton.ca/evenement/reservation-terrain-de-soccer-recre-o-parc-2/
LOCATION:Récré-O-Parc\, 40 rue du Parc\, Compton\, Québec\, J0B 1L0
CATEGORIES:Réservation
END:VEVENT
END:VCALENDAR